BEGIN:VCALENDAR
VERSION:2.0
PRODID:-//DVCVisalia - ECPv6.15.17//NONSGML v1.0//EN
CALSCALE:GREGORIAN
METHOD:PUBLISH
X-WR-CALNAME:DVCVisalia
X-ORIGINAL-URL:https://dvcvisalia.com
X-WR-CALDESC:Events for DVCVisalia
REFRESH-INTERVAL;VALUE=DURATION:PT1H
X-Robots-Tag:noindex
X-PUBLISHED-TTL:PT1H
BEGIN:VTIMEZONE
TZID:America/Los_Angeles
BEGIN:DAYLIGHT
TZOFFSETFROM:-0800
TZOFFSETTO:-0700
TZNAME:PDT
DTSTART:20240310T100000
END:DAYLIGHT
BEGIN:STANDARD
TZOFFSETFROM:-0700
TZOFFSETTO:-0800
TZNAME:PST
DTSTART:20241103T090000
END:STANDARD
BEGIN:DAYLIGHT
TZOFFSETFROM:-0800
TZOFFSETTO:-0700
TZNAME:PDT
DTSTART:20250309T100000
END:DAYLIGHT
BEGIN:STANDARD
TZOFFSETFROM:-0700
TZOFFSETTO:-0800
TZNAME:PST
DTSTART:20251102T090000
END:STANDARD
BEGIN:DAYLIGHT
TZOFFSETFROM:-0800
TZOFFSETTO:-0700
TZNAME:PDT
DTSTART:20260308T100000
END:DAYLIGHT
BEGIN:STANDARD
TZOFFSETFROM:-0700
TZOFFSETTO:-0800
TZNAME:PST
DTSTART:20261101T090000
END:STANDARD
END:VTIMEZONE
BEGIN:VEVENT
DTSTART;VALUE=DATE:20250322
DTEND;VALUE=DATE:20250323
DTSTAMP:20260424T010916
CREATED:20250309T152500Z
LAST-MODIFIED:20250309T152500Z
UID:917-1742601600-1742687999@dvcvisalia.com
SUMMARY:Private Event Range Closed
DESCRIPTION:
URL:https://dvcvisalia.com/event/private-event-range-closed-3/
END:VEVENT
BEGIN:VEVENT
DTSTART;VALUE=DATE:20250321
DTEND;VALUE=DATE:20250322
DTSTAMP:20260424T010916
CREATED:20250309T152411Z
LAST-MODIFIED:20250309T152411Z
UID:915-1742515200-1742601599@dvcvisalia.com
SUMMARY:Probation
DESCRIPTION:
URL:https://dvcvisalia.com/event/probation-3/
END:VEVENT
BEGIN:VEVENT
DTSTART;VALUE=DATE:20250319
DTEND;VALUE=DATE:20250320
DTSTAMP:20260424T010916
CREATED:20250309T152338Z
LAST-MODIFIED:20250309T152338Z
UID:913-1742342400-1742428799@dvcvisalia.com
SUMMARY:CHP
DESCRIPTION:
URL:https://dvcvisalia.com/event/chp-50/
END:VEVENT
BEGIN:VEVENT
DTSTART;VALUE=DATE:20250317
DTEND;VALUE=DATE:20250318
DTSTAMP:20260424T010916
CREATED:20250309T152314Z
LAST-MODIFIED:20250309T152314Z
UID:911-1742169600-1742255999@dvcvisalia.com
SUMMARY:VPD
DESCRIPTION:
URL:https://dvcvisalia.com/event/vpd-112/
END:VEVENT
BEGIN:VEVENT
DTSTART;VALUE=DATE:20250314
DTEND;VALUE=DATE:20250315
DTSTAMP:20260424T010916
CREATED:20250309T152243Z
LAST-MODIFIED:20250309T152243Z
UID:909-1741910400-1741996799@dvcvisalia.com
SUMMARY:Dinuba
DESCRIPTION:
URL:https://dvcvisalia.com/event/dinuba-26/
END:VEVENT
BEGIN:VEVENT
DTSTART;VALUE=DATE:20250313
DTEND;VALUE=DATE:20250314
DTSTAMP:20260424T010916
CREATED:20250309T152220Z
LAST-MODIFIED:20250309T152220Z
UID:907-1741824000-1741910399@dvcvisalia.com
SUMMARY:VPD
DESCRIPTION:
URL:https://dvcvisalia.com/event/vpd-111/
END:VEVENT
BEGIN:VEVENT
DTSTART;VALUE=DATE:20250312
DTEND;VALUE=DATE:20250313
DTSTAMP:20260424T010916
CREATED:20250309T152157Z
LAST-MODIFIED:20250309T152157Z
UID:905-1741737600-1741823999@dvcvisalia.com
SUMMARY:Parole
DESCRIPTION:
URL:https://dvcvisalia.com/event/parole-18/
END:VEVENT
BEGIN:VEVENT
DTSTART;VALUE=DATE:20250310
DTEND;VALUE=DATE:20250312
DTSTAMP:20260424T010916
CREATED:20250309T152133Z
LAST-MODIFIED:20250309T152133Z
UID:903-1741564800-1741737599@dvcvisalia.com
SUMMARY:VPD
DESCRIPTION:
URL:https://dvcvisalia.com/event/vpd-110/
END:VEVENT
BEGIN:VEVENT
DTSTART;VALUE=DATE:20250227
DTEND;VALUE=DATE:20250301
DTSTAMP:20260424T010916
CREATED:20250205T022336Z
LAST-MODIFIED:20250205T022336Z
UID:901-1740614400-1740787199@dvcvisalia.com
SUMMARY:(No title)
DESCRIPTION:
URL:https://dvcvisalia.com/event/no-title/
END:VEVENT
BEGIN:VEVENT
DTSTART;VALUE=DATE:20250226
DTEND;VALUE=DATE:20250227
DTSTAMP:20260424T010916
CREATED:20250205T022300Z
LAST-MODIFIED:20250205T022300Z
UID:899-1740528000-1740614399@dvcvisalia.com
SUMMARY:CHP
DESCRIPTION:
URL:https://dvcvisalia.com/event/chp-49/
END:VEVENT
BEGIN:VEVENT
DTSTART;VALUE=DATE:20250225
DTEND;VALUE=DATE:20250226
DTSTAMP:20260424T010916
CREATED:20250205T022239Z
LAST-MODIFIED:20250205T022239Z
UID:897-1740441600-1740527999@dvcvisalia.com
SUMMARY:VPD
DESCRIPTION:
URL:https://dvcvisalia.com/event/vpd-109/
END:VEVENT
BEGIN:VEVENT
DTSTART;VALUE=DATE:20250224
DTEND;VALUE=DATE:20250225
DTSTAMP:20260424T010916
CREATED:20250205T022218Z
LAST-MODIFIED:20250205T022218Z
UID:895-1740355200-1740441599@dvcvisalia.com
SUMMARY:TC Probation
DESCRIPTION:
URL:https://dvcvisalia.com/event/tc-probation-25/
END:VEVENT
BEGIN:VEVENT
DTSTART;VALUE=DATE:20250219
DTEND;VALUE=DATE:20250223
DTSTAMP:20260424T010916
CREATED:20250205T022123Z
LAST-MODIFIED:20250205T022123Z
UID:893-1739923200-1740268799@dvcvisalia.com
SUMMARY:VPD
DESCRIPTION:
URL:https://dvcvisalia.com/event/vpd-108/
END:VEVENT
BEGIN:VEVENT
DTSTART;VALUE=DATE:20250218
DTEND;VALUE=DATE:20250219
DTSTAMP:20260424T010916
CREATED:20250205T022050Z
LAST-MODIFIED:20250205T022050Z
UID:891-1739836800-1739923199@dvcvisalia.com
SUMMARY:Dinuba
DESCRIPTION:
URL:https://dvcvisalia.com/event/dinuba-25/
END:VEVENT
BEGIN:VEVENT
DTSTART;VALUE=DATE:20250215
DTEND;VALUE=DATE:20250216
DTSTAMP:20260424T010916
CREATED:20250205T022026Z
LAST-MODIFIED:20250205T022026Z
UID:889-1739577600-1739663999@dvcvisalia.com
SUMMARY:Private Range Closed
DESCRIPTION:
URL:https://dvcvisalia.com/event/private-range-closed-5/
END:VEVENT
BEGIN:VEVENT
DTSTART;TZID=America/Los_Angeles:20250214T120000
DTEND;TZID=America/Los_Angeles:20250214T130000
DTSTAMP:20260424T010916
CREATED:20250205T021955Z
LAST-MODIFIED:20250205T021955Z
UID:887-1739534400-1739538000@dvcvisalia.com
SUMMARY:Fed Probation
DESCRIPTION:
URL:https://dvcvisalia.com/event/fed-probation-3/
END:VEVENT
BEGIN:VEVENT
DTSTART;VALUE=DATE:20250213
DTEND;VALUE=DATE:20250214
DTSTAMP:20260424T010916
CREATED:20250205T021919Z
LAST-MODIFIED:20250205T021919Z
UID:885-1739404800-1739491199@dvcvisalia.com
SUMMARY:VPD
DESCRIPTION:
URL:https://dvcvisalia.com/event/vpd-107/
END:VEVENT
BEGIN:VEVENT
DTSTART;VALUE=DATE:20250212
DTEND;VALUE=DATE:20250213
DTSTAMP:20260424T010916
CREATED:20250205T021849Z
LAST-MODIFIED:20250205T021849Z
UID:883-1739318400-1739404799@dvcvisalia.com
SUMMARY:CHP
DESCRIPTION:
URL:https://dvcvisalia.com/event/chp-48/
END:VEVENT
BEGIN:VEVENT
DTSTART;TZID=America/Los_Angeles:20250211T080000
DTEND;TZID=America/Los_Angeles:20250211T130000
DTSTAMP:20260424T010916
CREATED:20250205T021815Z
LAST-MODIFIED:20250205T021815Z
UID:881-1739260800-1739278800@dvcvisalia.com
SUMMARY:VPD
DESCRIPTION:
URL:https://dvcvisalia.com/event/vpd-106/
END:VEVENT
BEGIN:VEVENT
DTSTART;VALUE=DATE:20250210
DTEND;VALUE=DATE:20250211
DTSTAMP:20260424T010916
CREATED:20250205T021731Z
LAST-MODIFIED:20250205T021731Z
UID:879-1739145600-1739231999@dvcvisalia.com
SUMMARY:VPD
DESCRIPTION:
URL:https://dvcvisalia.com/event/vpd-105/
END:VEVENT
BEGIN:VEVENT
DTSTART;TZID=America/Los_Angeles:20250209T160000
DTEND;TZID=America/Los_Angeles:20250209T220000
DTSTAMP:20260424T010916
CREATED:20250205T021705Z
LAST-MODIFIED:20250205T021705Z
UID:877-1739116800-1739138400@dvcvisalia.com
SUMMARY:Private
DESCRIPTION:
URL:https://dvcvisalia.com/event/private-8/
END:VEVENT
BEGIN:VEVENT
DTSTART;TZID=America/Los_Angeles:20250208T160000
DTEND;TZID=America/Los_Angeles:20250208T220000
DTSTAMP:20260424T010916
CREATED:20250205T021629Z
LAST-MODIFIED:20250205T021629Z
UID:875-1739030400-1739052000@dvcvisalia.com
SUMMARY:Private
DESCRIPTION:
URL:https://dvcvisalia.com/event/private-7/
END:VEVENT
BEGIN:VEVENT
DTSTART;VALUE=DATE:20250207
DTEND;VALUE=DATE:20250208
DTSTAMP:20260424T010916
CREATED:20250205T021545Z
LAST-MODIFIED:20250205T021545Z
UID:873-1738886400-1738972799@dvcvisalia.com
SUMMARY:TC Probation
DESCRIPTION:
URL:https://dvcvisalia.com/event/tc-probation-24/
END:VEVENT
BEGIN:VEVENT
DTSTART;VALUE=DATE:20250206
DTEND;VALUE=DATE:20250207
DTSTAMP:20260424T010916
CREATED:20250205T021513Z
LAST-MODIFIED:20250205T021513Z
UID:871-1738800000-1738886399@dvcvisalia.com
SUMMARY:TC DA
DESCRIPTION:
URL:https://dvcvisalia.com/event/tc-da-4/
END:VEVENT
BEGIN:VEVENT
DTSTART;TZID=America/Los_Angeles:20250204T080000
DTEND;TZID=America/Los_Angeles:20250204T120000
DTSTAMP:20260424T010916
CREATED:20250205T021445Z
LAST-MODIFIED:20250205T021445Z
UID:869-1738656000-1738670400@dvcvisalia.com
SUMMARY:Target
DESCRIPTION:
URL:https://dvcvisalia.com/event/target/
END:VEVENT
BEGIN:VEVENT
DTSTART;VALUE=DATE:20250201
DTEND;VALUE=DATE:20250202
DTSTAMP:20260424T010916
CREATED:20250102T202558Z
LAST-MODIFIED:20250102T202558Z
UID:864-1738368000-1738454399@dvcvisalia.com
SUMMARY:DVC
DESCRIPTION:
URL:https://dvcvisalia.com/event/dvc-26/
END:VEVENT
BEGIN:VEVENT
DTSTART;VALUE=DATE:20250130
DTEND;VALUE=DATE:20250201
DTSTAMP:20260424T010916
CREATED:20250102T202531Z
LAST-MODIFIED:20250102T202531Z
UID:862-1738195200-1738367999@dvcvisalia.com
SUMMARY:VPD
DESCRIPTION:
URL:https://dvcvisalia.com/event/vpd-104/
END:VEVENT
BEGIN:VEVENT
DTSTART;VALUE=DATE:20250129
DTEND;VALUE=DATE:20250130
DTSTAMP:20260424T010916
CREATED:20250102T202505Z
LAST-MODIFIED:20250102T202505Z
UID:860-1738108800-1738195199@dvcvisalia.com
SUMMARY:CHP
DESCRIPTION:
URL:https://dvcvisalia.com/event/chp-47/
END:VEVENT
BEGIN:VEVENT
DTSTART;VALUE=DATE:20250127
DTEND;VALUE=DATE:20250129
DTSTAMP:20260424T010916
CREATED:20250102T202445Z
LAST-MODIFIED:20250102T202445Z
UID:858-1737936000-1738108799@dvcvisalia.com
SUMMARY:VPD
DESCRIPTION:
URL:https://dvcvisalia.com/event/vpd-103/
END:VEVENT
BEGIN:VEVENT
DTSTART;VALUE=DATE:20250122
DTEND;VALUE=DATE:20250124
DTSTAMP:20260424T010916
CREATED:20250102T202421Z
LAST-MODIFIED:20250102T202421Z
UID:856-1737504000-1737676799@dvcvisalia.com
SUMMARY:VPD
DESCRIPTION:
URL:https://dvcvisalia.com/event/vpd-102/
END:VEVENT
END:VCALENDAR