BEGIN:VCALENDAR
VERSION:2.0
PRODID:-//DVCVisalia - ECPv6.15.17//NONSGML v1.0//EN
CALSCALE:GREGORIAN
METHOD:PUBLISH
X-ORIGINAL-URL:https://dvcvisalia.com
X-WR-CALDESC:Events for DVCVisalia
REFRESH-INTERVAL;VALUE=DURATION:PT1H
X-Robots-Tag:noindex
X-PUBLISHED-TTL:PT1H
BEGIN:VTIMEZONE
TZID:America/Los_Angeles
BEGIN:DAYLIGHT
TZOFFSETFROM:-0800
TZOFFSETTO:-0700
TZNAME:PDT
DTSTART:20240310T100000
END:DAYLIGHT
BEGIN:STANDARD
TZOFFSETFROM:-0700
TZOFFSETTO:-0800
TZNAME:PST
DTSTART:20241103T090000
END:STANDARD
BEGIN:DAYLIGHT
TZOFFSETFROM:-0800
TZOFFSETTO:-0700
TZNAME:PDT
DTSTART:20250309T100000
END:DAYLIGHT
BEGIN:STANDARD
TZOFFSETFROM:-0700
TZOFFSETTO:-0800
TZNAME:PST
DTSTART:20251102T090000
END:STANDARD
BEGIN:DAYLIGHT
TZOFFSETFROM:-0800
TZOFFSETTO:-0700
TZNAME:PDT
DTSTART:20260308T100000
END:DAYLIGHT
BEGIN:STANDARD
TZOFFSETFROM:-0700
TZOFFSETTO:-0800
TZNAME:PST
DTSTART:20261101T090000
END:STANDARD
END:VTIMEZONE
BEGIN:VEVENT
DTSTART;VALUE=DATE:20250513
DTEND;VALUE=DATE:20250514
DTSTAMP:20260423T214958
CREATED:20250504T000832Z
LAST-MODIFIED:20250504T000832Z
UID:968-1747094400-1747180799@dvcvisalia.com
SUMMARY:Parole
DESCRIPTION:
URL:https://dvcvisalia.com/event/parole-20/
END:VEVENT
BEGIN:VEVENT
DTSTART;VALUE=DATE:20250512
DTEND;VALUE=DATE:20250513
DTSTAMP:20260423T214958
CREATED:20250504T000809Z
LAST-MODIFIED:20250504T000809Z
UID:966-1747008000-1747094399@dvcvisalia.com
SUMMARY:VPD
DESCRIPTION:
URL:https://dvcvisalia.com/event/vpd-118/
END:VEVENT
BEGIN:VEVENT
DTSTART;VALUE=DATE:20250509
DTEND;VALUE=DATE:20250510
DTSTAMP:20260423T214958
CREATED:20250504T000741Z
LAST-MODIFIED:20250504T000741Z
UID:964-1746748800-1746835199@dvcvisalia.com
SUMMARY:TC Probation
DESCRIPTION:
URL:https://dvcvisalia.com/event/tc-probation-26/
END:VEVENT
BEGIN:VEVENT
DTSTART;VALUE=DATE:20250508
DTEND;VALUE=DATE:20250509
DTSTAMP:20260423T214958
CREATED:20250504T000711Z
LAST-MODIFIED:20250504T000711Z
UID:962-1746662400-1746748799@dvcvisalia.com
SUMMARY:Federal Probation
DESCRIPTION:
URL:https://dvcvisalia.com/event/federal-probation-7/
END:VEVENT
BEGIN:VEVENT
DTSTART;VALUE=DATE:20250507
DTEND;VALUE=DATE:20250508
DTSTAMP:20260423T214958
CREATED:20250504T000646Z
LAST-MODIFIED:20250504T000646Z
UID:960-1746576000-1746662399@dvcvisalia.com
SUMMARY:CHP
DESCRIPTION:
URL:https://dvcvisalia.com/event/chp-54/
END:VEVENT
BEGIN:VEVENT
DTSTART;TZID=America/Los_Angeles:20250506T100000
DTEND;TZID=America/Los_Angeles:20250506T110000
DTSTAMP:20260423T214958
CREATED:20250504T000622Z
LAST-MODIFIED:20250504T000622Z
UID:958-1746525600-1746529200@dvcvisalia.com
SUMMARY:VPD
DESCRIPTION:
URL:https://dvcvisalia.com/event/vpd-117/
END:VEVENT
BEGIN:VEVENT
DTSTART;VALUE=DATE:20250505
DTEND;VALUE=DATE:20250506
DTSTAMP:20260423T214958
CREATED:20250504T000544Z
LAST-MODIFIED:20250504T000544Z
UID:956-1746403200-1746489599@dvcvisalia.com
SUMMARY:VPD
DESCRIPTION:
URL:https://dvcvisalia.com/event/vpd-116/
END:VEVENT
BEGIN:VEVENT
DTSTART;VALUE=DATE:20250503
DTEND;VALUE=DATE:20250504
DTSTAMP:20260423T214958
CREATED:20250402T004351Z
LAST-MODIFIED:20250402T004351Z
UID:952-1746230400-1746316799@dvcvisalia.com
SUMMARY:DVC
DESCRIPTION:
URL:https://dvcvisalia.com/event/dvc-28/
END:VEVENT
BEGIN:VEVENT
DTSTART;VALUE=DATE:20250430
DTEND;VALUE=DATE:20250501
DTSTAMP:20260423T214958
CREATED:20250402T004324Z
LAST-MODIFIED:20250402T004324Z
UID:950-1745971200-1746057599@dvcvisalia.com
SUMMARY:CHP
DESCRIPTION:
URL:https://dvcvisalia.com/event/chp-53/
END:VEVENT
BEGIN:VEVENT
DTSTART;VALUE=DATE:20250424
DTEND;VALUE=DATE:20250425
DTSTAMP:20260423T214959
CREATED:20250402T004252Z
LAST-MODIFIED:20250402T004252Z
UID:948-1745452800-1745539199@dvcvisalia.com
SUMMARY:VPD
DESCRIPTION:
URL:https://dvcvisalia.com/event/vpd-115/
END:VEVENT
BEGIN:VEVENT
DTSTART;VALUE=DATE:20250423
DTEND;VALUE=DATE:20250424
DTSTAMP:20260423T214959
CREATED:20250402T004225Z
LAST-MODIFIED:20250402T004225Z
UID:946-1745366400-1745452799@dvcvisalia.com
SUMMARY:CHP
DESCRIPTION:
URL:https://dvcvisalia.com/event/chp-52/
END:VEVENT
BEGIN:VEVENT
DTSTART;VALUE=DATE:20250422
DTEND;VALUE=DATE:20250423
DTSTAMP:20260423T214959
CREATED:20250402T004152Z
LAST-MODIFIED:20250402T004152Z
UID:944-1745280000-1745366399@dvcvisalia.com
SUMMARY:Parole
DESCRIPTION:
URL:https://dvcvisalia.com/event/parole-19/
END:VEVENT
BEGIN:VEVENT
DTSTART;VALUE=DATE:20250419
DTEND;VALUE=DATE:20250420
DTSTAMP:20260423T214959
CREATED:20250402T004119Z
LAST-MODIFIED:20250402T004119Z
UID:942-1745020800-1745107199@dvcvisalia.com
SUMMARY:Private Range Closed
DESCRIPTION:
URL:https://dvcvisalia.com/event/private-range-closed-6/
END:VEVENT
BEGIN:VEVENT
DTSTART;VALUE=DATE:20250415
DTEND;VALUE=DATE:20250416
DTSTAMP:20260423T214959
CREATED:20250402T004044Z
LAST-MODIFIED:20250402T004044Z
UID:940-1744675200-1744761599@dvcvisalia.com
SUMMARY:Dinuba
DESCRIPTION:
URL:https://dvcvisalia.com/event/dinuba-27/
END:VEVENT
BEGIN:VEVENT
DTSTART;VALUE=DATE:20250414
DTEND;VALUE=DATE:20250415
DTSTAMP:20260423T214959
CREATED:20250402T003949Z
LAST-MODIFIED:20250402T003949Z
UID:938-1744588800-1744675199@dvcvisalia.com
SUMMARY:VPD
DESCRIPTION:
URL:https://dvcvisalia.com/event/vpd-114/
END:VEVENT
BEGIN:VEVENT
DTSTART;VALUE=DATE:20250412
DTEND;VALUE=DATE:20250413
DTSTAMP:20260423T214959
CREATED:20250402T003837Z
LAST-MODIFIED:20250402T003837Z
UID:936-1744416000-1744502399@dvcvisalia.com
SUMMARY:VPD
DESCRIPTION:
URL:https://dvcvisalia.com/event/vpd-113/
END:VEVENT
BEGIN:VEVENT
DTSTART;VALUE=DATE:20250411
DTEND;VALUE=DATE:20250412
DTSTAMP:20260423T214959
CREATED:20250402T003809Z
LAST-MODIFIED:20250402T003809Z
UID:934-1744329600-1744415999@dvcvisalia.com
SUMMARY:Probation
DESCRIPTION:
URL:https://dvcvisalia.com/event/probation-4/
END:VEVENT
BEGIN:VEVENT
DTSTART;VALUE=DATE:20250410
DTEND;VALUE=DATE:20250411
DTSTAMP:20260423T214959
CREATED:20250402T003723Z
LAST-MODIFIED:20250402T003723Z
UID:932-1744243200-1744329599@dvcvisalia.com
SUMMARY:TCDA
DESCRIPTION:
URL:https://dvcvisalia.com/event/tcda-11/
END:VEVENT
BEGIN:VEVENT
DTSTART;TZID=America/Los_Angeles:20250407T080000
DTEND;TZID=America/Los_Angeles:20250409T220000
DTSTAMP:20260423T214959
CREATED:20250402T003657Z
LAST-MODIFIED:20250402T003657Z
UID:930-1744012800-1744236000@dvcvisalia.com
SUMMARY:COS
DESCRIPTION:
URL:https://dvcvisalia.com/event/cos-39/
END:VEVENT
BEGIN:VEVENT
DTSTART;VALUE=DATE:20250405
DTEND;VALUE=DATE:20250406
DTSTAMP:20260423T214959
CREATED:20250309T152810Z
LAST-MODIFIED:20250309T152810Z
UID:925-1743811200-1743897599@dvcvisalia.com
SUMMARY:DVC
DESCRIPTION:
URL:https://dvcvisalia.com/event/dvc-27/
END:VEVENT
BEGIN:VEVENT
DTSTART;TZID=America/Los_Angeles:20250401T120000
DTEND;TZID=America/Los_Angeles:20250404T220000
DTSTAMP:20260423T214959
CREATED:20250402T003522Z
LAST-MODIFIED:20250402T003522Z
UID:928-1743508800-1743804000@dvcvisalia.com
SUMMARY:COS
DESCRIPTION:
URL:https://dvcvisalia.com/event/cos-38/
END:VEVENT
BEGIN:VEVENT
DTSTART;VALUE=DATE:20250331
DTEND;VALUE=DATE:20250401
DTSTAMP:20260423T214959
CREATED:20250309T152626Z
LAST-MODIFIED:20250309T152626Z
UID:923-1743379200-1743465599@dvcvisalia.com
SUMMARY:COS
DESCRIPTION:
URL:https://dvcvisalia.com/event/cos-37/
END:VEVENT
BEGIN:VEVENT
DTSTART;VALUE=DATE:20250326
DTEND;VALUE=DATE:20250327
DTSTAMP:20260423T214959
CREATED:20250309T152558Z
LAST-MODIFIED:20250309T152558Z
UID:921-1742947200-1743033599@dvcvisalia.com
SUMMARY:CHP
DESCRIPTION:
URL:https://dvcvisalia.com/event/chp-51/
END:VEVENT
BEGIN:VEVENT
DTSTART;VALUE=DATE:20250324
DTEND;VALUE=DATE:20250325
DTSTAMP:20260423T214959
CREATED:20250309T152531Z
LAST-MODIFIED:20250309T152531Z
UID:919-1742774400-1742860799@dvcvisalia.com
SUMMARY:Private Event Range Closed
DESCRIPTION:
URL:https://dvcvisalia.com/event/private-event-range-closed-4/
END:VEVENT
BEGIN:VEVENT
DTSTART;VALUE=DATE:20250322
DTEND;VALUE=DATE:20250323
DTSTAMP:20260423T214959
CREATED:20250309T152500Z
LAST-MODIFIED:20250309T152500Z
UID:917-1742601600-1742687999@dvcvisalia.com
SUMMARY:Private Event Range Closed
DESCRIPTION:
URL:https://dvcvisalia.com/event/private-event-range-closed-3/
END:VEVENT
BEGIN:VEVENT
DTSTART;VALUE=DATE:20250321
DTEND;VALUE=DATE:20250322
DTSTAMP:20260423T214959
CREATED:20250309T152411Z
LAST-MODIFIED:20250309T152411Z
UID:915-1742515200-1742601599@dvcvisalia.com
SUMMARY:Probation
DESCRIPTION:
URL:https://dvcvisalia.com/event/probation-3/
END:VEVENT
BEGIN:VEVENT
DTSTART;VALUE=DATE:20250319
DTEND;VALUE=DATE:20250320
DTSTAMP:20260423T214959
CREATED:20250309T152338Z
LAST-MODIFIED:20250309T152338Z
UID:913-1742342400-1742428799@dvcvisalia.com
SUMMARY:CHP
DESCRIPTION:
URL:https://dvcvisalia.com/event/chp-50/
END:VEVENT
BEGIN:VEVENT
DTSTART;VALUE=DATE:20250317
DTEND;VALUE=DATE:20250318
DTSTAMP:20260423T214959
CREATED:20250309T152314Z
LAST-MODIFIED:20250309T152314Z
UID:911-1742169600-1742255999@dvcvisalia.com
SUMMARY:VPD
DESCRIPTION:
URL:https://dvcvisalia.com/event/vpd-112/
END:VEVENT
BEGIN:VEVENT
DTSTART;VALUE=DATE:20250314
DTEND;VALUE=DATE:20250315
DTSTAMP:20260423T214959
CREATED:20250309T152243Z
LAST-MODIFIED:20250309T152243Z
UID:909-1741910400-1741996799@dvcvisalia.com
SUMMARY:Dinuba
DESCRIPTION:
URL:https://dvcvisalia.com/event/dinuba-26/
END:VEVENT
BEGIN:VEVENT
DTSTART;VALUE=DATE:20250313
DTEND;VALUE=DATE:20250314
DTSTAMP:20260423T214959
CREATED:20250309T152220Z
LAST-MODIFIED:20250309T152220Z
UID:907-1741824000-1741910399@dvcvisalia.com
SUMMARY:VPD
DESCRIPTION:
URL:https://dvcvisalia.com/event/vpd-111/
END:VEVENT
END:VCALENDAR