BEGIN:VCALENDAR
VERSION:2.0
PRODID:-//DVCVisalia - ECPv6.15.20//NONSGML v1.0//EN
CALSCALE:GREGORIAN
METHOD:PUBLISH
X-WR-CALNAME:DVCVisalia
X-ORIGINAL-URL:https://dvcvisalia.com
X-WR-CALDESC:Events for DVCVisalia
REFRESH-INTERVAL;VALUE=DURATION:PT1H
X-Robots-Tag:noindex
X-PUBLISHED-TTL:PT1H
BEGIN:VTIMEZONE
TZID:America/Los_Angeles
BEGIN:DAYLIGHT
TZOFFSETFROM:-0800
TZOFFSETTO:-0700
TZNAME:PDT
DTSTART:20220313T100000
END:DAYLIGHT
BEGIN:STANDARD
TZOFFSETFROM:-0700
TZOFFSETTO:-0800
TZNAME:PST
DTSTART:20221106T090000
END:STANDARD
BEGIN:DAYLIGHT
TZOFFSETFROM:-0800
TZOFFSETTO:-0700
TZNAME:PDT
DTSTART:20230312T100000
END:DAYLIGHT
BEGIN:STANDARD
TZOFFSETFROM:-0700
TZOFFSETTO:-0800
TZNAME:PST
DTSTART:20231105T090000
END:STANDARD
BEGIN:DAYLIGHT
TZOFFSETFROM:-0800
TZOFFSETTO:-0700
TZNAME:PDT
DTSTART:20240310T100000
END:DAYLIGHT
BEGIN:STANDARD
TZOFFSETFROM:-0700
TZOFFSETTO:-0800
TZNAME:PST
DTSTART:20241103T090000
END:STANDARD
END:VTIMEZONE
BEGIN:VEVENT
DTSTART;VALUE=DATE:20230724
DTEND;VALUE=DATE:20230725
DTSTAMP:20260425T192315
CREATED:20230701T184614Z
LAST-MODIFIED:20230701T184614Z
UID:265-1690156800-1690243199@dvcvisalia.com
SUMMARY:VPD
DESCRIPTION:
URL:https://dvcvisalia.com/event/vpd-25/
END:VEVENT
BEGIN:VEVENT
DTSTART;VALUE=DATE:20230721
DTEND;VALUE=DATE:20230722
DTSTAMP:20260425T192315
CREATED:20230701T184543Z
LAST-MODIFIED:20230701T184543Z
UID:263-1689897600-1689983999@dvcvisalia.com
SUMMARY:TC PROBATION
DESCRIPTION:
URL:https://dvcvisalia.com/event/tc-probation-4/
END:VEVENT
BEGIN:VEVENT
DTSTART;VALUE=DATE:20230717
DTEND;VALUE=DATE:20230718
DTSTAMP:20260425T192315
CREATED:20230701T184515Z
LAST-MODIFIED:20230701T184515Z
UID:261-1689552000-1689638399@dvcvisalia.com
SUMMARY:VPD
DESCRIPTION:
URL:https://dvcvisalia.com/event/vpd-24/
END:VEVENT
BEGIN:VEVENT
DTSTART;VALUE=DATE:20230714
DTEND;VALUE=DATE:20230715
DTSTAMP:20260425T192315
CREATED:20230701T184454Z
LAST-MODIFIED:20230701T184454Z
UID:259-1689292800-1689379199@dvcvisalia.com
SUMMARY:DINUBA
DESCRIPTION:
URL:https://dvcvisalia.com/event/dinuba-6/
END:VEVENT
BEGIN:VEVENT
DTSTART;TZID=America/Los_Angeles:20230713T100000
DTEND;TZID=America/Los_Angeles:20230713T220000
DTSTAMP:20260425T192315
CREATED:20230701T184403Z
LAST-MODIFIED:20230701T184403Z
UID:257-1689242400-1689285600@dvcvisalia.com
SUMMARY:VPD
DESCRIPTION:
URL:https://dvcvisalia.com/event/vpd-23/
END:VEVENT
BEGIN:VEVENT
DTSTART;VALUE=DATE:20230706
DTEND;VALUE=DATE:20230707
DTSTAMP:20260425T192315
CREATED:20230701T184107Z
LAST-MODIFIED:20230701T184107Z
UID:255-1688601600-1688687999@dvcvisalia.com
SUMMARY:VPD
DESCRIPTION:
URL:https://dvcvisalia.com/event/vpd-22/
END:VEVENT
BEGIN:VEVENT
DTSTART;VALUE=DATE:20230705
DTEND;VALUE=DATE:20230706
DTSTAMP:20260425T192315
CREATED:20230701T184039Z
LAST-MODIFIED:20230701T184039Z
UID:253-1688515200-1688601599@dvcvisalia.com
SUMMARY:CHP
DESCRIPTION:
URL:https://dvcvisalia.com/event/chp-8/
END:VEVENT
BEGIN:VEVENT
DTSTART;VALUE=DATE:20230703
DTEND;VALUE=DATE:20230704
DTSTAMP:20260425T192315
CREATED:20230701T184012Z
LAST-MODIFIED:20230701T184012Z
UID:251-1688342400-1688428799@dvcvisalia.com
SUMMARY:VPD
DESCRIPTION:
URL:https://dvcvisalia.com/event/vpd-21/
END:VEVENT
BEGIN:VEVENT
DTSTART;VALUE=DATE:20230701
DTEND;VALUE=DATE:20230702
DTSTAMP:20260425T192315
CREATED:20230601T150808Z
LAST-MODIFIED:20230601T151733Z
UID:243-1688169600-1688255999@dvcvisalia.com
SUMMARY:DVC
DESCRIPTION:
URL:https://dvcvisalia.com/event/dvc-7/
END:VEVENT
BEGIN:VEVENT
DTSTART;TZID=America/Los_Angeles:20230630T160000
DTEND;TZID=America/Los_Angeles:20230630T220000
DTSTAMP:20260425T192315
CREATED:20230701T183747Z
LAST-MODIFIED:20230701T183919Z
UID:249-1688140800-1688162400@dvcvisalia.com
SUMMARY:Private Party
DESCRIPTION:
URL:https://dvcvisalia.com/event/private-party-2/
END:VEVENT
BEGIN:VEVENT
DTSTART;VALUE=DATE:20230628
DTEND;VALUE=DATE:20230629
DTSTAMP:20260425T192315
CREATED:20230601T150736Z
LAST-MODIFIED:20230601T151244Z
UID:241-1687910400-1687996799@dvcvisalia.com
SUMMARY:VPD
DESCRIPTION:
URL:https://dvcvisalia.com/event/vpd-20/
END:VEVENT
BEGIN:VEVENT
DTSTART;VALUE=DATE:20230627
DTEND;VALUE=DATE:20230628
DTSTAMP:20260425T192315
CREATED:20230601T150706Z
LAST-MODIFIED:20230601T150706Z
UID:239-1687824000-1687910399@dvcvisalia.com
SUMMARY:CHP
DESCRIPTION:
URL:https://dvcvisalia.com/event/chp-7/
END:VEVENT
BEGIN:VEVENT
DTSTART;VALUE=DATE:20230623
DTEND;VALUE=DATE:20230624
DTSTAMP:20260425T192315
CREATED:20230601T150638Z
LAST-MODIFIED:20230601T150638Z
UID:237-1687478400-1687564799@dvcvisalia.com
SUMMARY:DINUBA
DESCRIPTION:
URL:https://dvcvisalia.com/event/dinuba-5/
END:VEVENT
BEGIN:VEVENT
DTSTART;VALUE=DATE:20230619
DTEND;VALUE=DATE:20230620
DTSTAMP:20260425T192315
CREATED:20230601T150041Z
LAST-MODIFIED:20230601T152528Z
UID:235-1687132800-1687219199@dvcvisalia.com
SUMMARY:VPD
DESCRIPTION:
URL:https://dvcvisalia.com/event/vpd-19/
END:VEVENT
BEGIN:VEVENT
DTSTART;VALUE=DATE:20230616
DTEND;VALUE=DATE:20230617
DTSTAMP:20260425T192315
CREATED:20230601T150003Z
LAST-MODIFIED:20230601T152459Z
UID:233-1686873600-1686959999@dvcvisalia.com
SUMMARY:TC PROBATION
DESCRIPTION:
URL:https://dvcvisalia.com/event/tc-probation-3/
END:VEVENT
BEGIN:VEVENT
DTSTART;TZID=America/Los_Angeles:20230613T170000
DTEND;TZID=America/Los_Angeles:20230613T220000
DTSTAMP:20260425T192315
CREATED:20230601T145834Z
LAST-MODIFIED:20230601T152937Z
UID:231-1686675600-1686693600@dvcvisalia.com
SUMMARY:PRIVATE EVENT
DESCRIPTION:
URL:https://dvcvisalia.com/event/private-party/
END:VEVENT
BEGIN:VEVENT
DTSTART;TZID=America/Los_Angeles:20230612T120000
DTEND;TZID=America/Los_Angeles:20230612T220000
DTSTAMP:20260425T192315
CREATED:20230601T145109Z
LAST-MODIFIED:20230601T152317Z
UID:225-1686571200-1686607200@dvcvisalia.com
SUMMARY:COS
DESCRIPTION:
URL:https://dvcvisalia.com/event/cos-6/
END:VEVENT
BEGIN:VEVENT
DTSTART;VALUE=DATE:20230609
DTEND;VALUE=DATE:20230610
DTSTAMP:20260425T192315
CREATED:20230601T145028Z
LAST-MODIFIED:20230601T152240Z
UID:223-1686268800-1686355199@dvcvisalia.com
SUMMARY:VPD
DESCRIPTION:
URL:https://dvcvisalia.com/event/vpd-18/
END:VEVENT
BEGIN:VEVENT
DTSTART;VALUE=DATE:20230608
DTEND;VALUE=DATE:20230609
DTSTAMP:20260425T192315
CREATED:20230601T144903Z
LAST-MODIFIED:20230601T152221Z
UID:221-1686182400-1686268799@dvcvisalia.com
SUMMARY:VPD
DESCRIPTION:
URL:https://dvcvisalia.com/event/vpd-17/
END:VEVENT
BEGIN:VEVENT
DTSTART;VALUE=DATE:20230607
DTEND;VALUE=DATE:20230608
DTSTAMP:20260425T192315
CREATED:20230601T144816Z
LAST-MODIFIED:20230601T152155Z
UID:219-1686096000-1686182399@dvcvisalia.com
SUMMARY:CHP
DESCRIPTION:
URL:https://dvcvisalia.com/event/chp-6/
END:VEVENT
BEGIN:VEVENT
DTSTART;TZID=America/Los_Angeles:20230606T120000
DTEND;TZID=America/Los_Angeles:20230606T220000
DTSTAMP:20260425T192315
CREATED:20230601T144734Z
LAST-MODIFIED:20230601T152820Z
UID:217-1686052800-1686088800@dvcvisalia.com
SUMMARY:COS
DESCRIPTION:
URL:https://dvcvisalia.com/event/cos-5/
END:VEVENT
BEGIN:VEVENT
DTSTART;TZID=America/Los_Angeles:20230605T120000
DTEND;TZID=America/Los_Angeles:20230605T220000
DTSTAMP:20260425T192315
CREATED:20230601T144644Z
LAST-MODIFIED:20230601T152130Z
UID:215-1685966400-1686002400@dvcvisalia.com
SUMMARY:COS
DESCRIPTION:
URL:https://dvcvisalia.com/event/cos-4/
END:VEVENT
BEGIN:VEVENT
DTSTART;VALUE=DATE:20230603
DTEND;VALUE=DATE:20230604
DTSTAMP:20260425T192315
CREATED:20230430T230352Z
LAST-MODIFIED:20230601T152040Z
UID:208-1685750400-1685836799@dvcvisalia.com
SUMMARY:DVC
DESCRIPTION:
URL:https://dvcvisalia.com/event/dvc-6/
END:VEVENT
BEGIN:VEVENT
DTSTART;TZID=America/Los_Angeles:20230602T120000
DTEND;TZID=America/Los_Angeles:20230602T220000
DTSTAMP:20260425T192315
CREATED:20230430T230237Z
LAST-MODIFIED:20230601T152723Z
UID:206-1685707200-1685743200@dvcvisalia.com
SUMMARY:COS
DESCRIPTION:
URL:https://dvcvisalia.com/event/cos-3/
END:VEVENT
BEGIN:VEVENT
DTSTART;VALUE=DATE:20230601
DTEND;VALUE=DATE:20230602
DTSTAMP:20260425T192315
CREATED:20230430T230152Z
LAST-MODIFIED:20230601T151926Z
UID:204-1685577600-1685663999@dvcvisalia.com
SUMMARY:TULARE COUNTY DA
DESCRIPTION:
URL:https://dvcvisalia.com/event/tulare-county-da/
END:VEVENT
BEGIN:VEVENT
DTSTART;TZID=America/Los_Angeles:20230526T080000
DTEND;TZID=America/Los_Angeles:20230526T170000
DTSTAMP:20260425T192315
CREATED:20230430T230119Z
LAST-MODIFIED:20230430T230119Z
UID:202-1685088000-1685120400@dvcvisalia.com
SUMMARY:DINUBA
DESCRIPTION:
URL:https://dvcvisalia.com/event/dinuba-4/
END:VEVENT
BEGIN:VEVENT
DTSTART;TZID=America/Los_Angeles:20230524T080000
DTEND;TZID=America/Los_Angeles:20230524T170000
DTSTAMP:20260425T192315
CREATED:20230430T230040Z
LAST-MODIFIED:20230430T230040Z
UID:200-1684915200-1684947600@dvcvisalia.com
SUMMARY:CHP
DESCRIPTION:
URL:https://dvcvisalia.com/event/chp-5/
END:VEVENT
BEGIN:VEVENT
DTSTART;TZID=America/Los_Angeles:20230519T080000
DTEND;TZID=America/Los_Angeles:20230519T170000
DTSTAMP:20260425T192315
CREATED:20230430T225957Z
LAST-MODIFIED:20230430T225957Z
UID:198-1684483200-1684515600@dvcvisalia.com
SUMMARY:TC PROBATION
DESCRIPTION:
URL:https://dvcvisalia.com/event/tc-probation-2/
END:VEVENT
BEGIN:VEVENT
DTSTART;TZID=America/Los_Angeles:20230517T080000
DTEND;TZID=America/Los_Angeles:20230517T170000
DTSTAMP:20260425T192315
CREATED:20230430T225859Z
LAST-MODIFIED:20230430T225859Z
UID:196-1684310400-1684342800@dvcvisalia.com
SUMMARY:FED PROBATION
DESCRIPTION:
URL:https://dvcvisalia.com/event/fed-probation/
END:VEVENT
BEGIN:VEVENT
DTSTART;TZID=America/Los_Angeles:20230516T170000
DTEND;TZID=America/Los_Angeles:20230516T190000
DTSTAMP:20260425T192315
CREATED:20230430T225708Z
LAST-MODIFIED:20230430T225708Z
UID:194-1684256400-1684263600@dvcvisalia.com
SUMMARY:PRIVATE
DESCRIPTION:
URL:https://dvcvisalia.com/event/private-3/
END:VEVENT
END:VCALENDAR