BEGIN:VCALENDAR
VERSION:2.0
PRODID:-//DVCVisalia - ECPv6.15.20//NONSGML v1.0//EN
CALSCALE:GREGORIAN
METHOD:PUBLISH
X-WR-CALNAME:DVCVisalia
X-ORIGINAL-URL:https://dvcvisalia.com
X-WR-CALDESC:Events for DVCVisalia
REFRESH-INTERVAL;VALUE=DURATION:PT1H
X-Robots-Tag:noindex
X-PUBLISHED-TTL:PT1H
BEGIN:VTIMEZONE
TZID:America/Los_Angeles
BEGIN:DAYLIGHT
TZOFFSETFROM:-0800
TZOFFSETTO:-0700
TZNAME:PDT
DTSTART:20220313T100000
END:DAYLIGHT
BEGIN:STANDARD
TZOFFSETFROM:-0700
TZOFFSETTO:-0800
TZNAME:PST
DTSTART:20221106T090000
END:STANDARD
BEGIN:DAYLIGHT
TZOFFSETFROM:-0800
TZOFFSETTO:-0700
TZNAME:PDT
DTSTART:20230312T100000
END:DAYLIGHT
BEGIN:STANDARD
TZOFFSETFROM:-0700
TZOFFSETTO:-0800
TZNAME:PST
DTSTART:20231105T090000
END:STANDARD
BEGIN:DAYLIGHT
TZOFFSETFROM:-0800
TZOFFSETTO:-0700
TZNAME:PDT
DTSTART:20240310T100000
END:DAYLIGHT
BEGIN:STANDARD
TZOFFSETFROM:-0700
TZOFFSETTO:-0800
TZNAME:PST
DTSTART:20241103T090000
END:STANDARD
END:VTIMEZONE
BEGIN:VEVENT
DTSTART;TZID=America/Los_Angeles:20230911T120000
DTEND;TZID=America/Los_Angeles:20230911T220000
DTSTAMP:20260425T140340
CREATED:20230901T181657Z
LAST-MODIFIED:20230901T181657Z
UID:334-1694433600-1694469600@dvcvisalia.com
SUMMARY:COS
DESCRIPTION:
URL:https://dvcvisalia.com/event/cos-9/
END:VEVENT
BEGIN:VEVENT
DTSTART;VALUE=DATE:20230908
DTEND;VALUE=DATE:20230909
DTSTAMP:20260425T140340
CREATED:20230901T181604Z
LAST-MODIFIED:20230901T181604Z
UID:332-1694131200-1694217599@dvcvisalia.com
SUMMARY:VPD
DESCRIPTION:
URL:https://dvcvisalia.com/event/vpd-33/
END:VEVENT
BEGIN:VEVENT
DTSTART;VALUE=DATE:20230907
DTEND;VALUE=DATE:20230908
DTSTAMP:20260425T140340
CREATED:20230901T181536Z
LAST-MODIFIED:20230901T181536Z
UID:330-1694044800-1694131199@dvcvisalia.com
SUMMARY:Federal Probation
DESCRIPTION:
URL:https://dvcvisalia.com/event/federal-probation/
END:VEVENT
BEGIN:VEVENT
DTSTART;VALUE=DATE:20230906
DTEND;VALUE=DATE:20230907
DTSTAMP:20260425T140340
CREATED:20230901T181339Z
LAST-MODIFIED:20230901T181339Z
UID:328-1693958400-1694044799@dvcvisalia.com
SUMMARY:CHP
DESCRIPTION:
URL:https://dvcvisalia.com/event/chp-12/
END:VEVENT
BEGIN:VEVENT
DTSTART;VALUE=DATE:20230905
DTEND;VALUE=DATE:20230906
DTSTAMP:20260425T140340
CREATED:20230901T181313Z
LAST-MODIFIED:20230901T181313Z
UID:326-1693872000-1693958399@dvcvisalia.com
SUMMARY:VPD
DESCRIPTION:
URL:https://dvcvisalia.com/event/vpd-32/
END:VEVENT
BEGIN:VEVENT
DTSTART;VALUE=DATE:20230902
DTEND;VALUE=DATE:20230903
DTSTAMP:20260425T140340
CREATED:20230901T181240Z
LAST-MODIFIED:20230901T181240Z
UID:324-1693612800-1693699199@dvcvisalia.com
SUMMARY:DVC
DESCRIPTION:
URL:https://dvcvisalia.com/event/dvc-10/
END:VEVENT
BEGIN:VEVENT
DTSTART;VALUE=DATE:20230831
DTEND;VALUE=DATE:20230901
DTSTAMP:20260425T140340
CREATED:20230801T131642Z
LAST-MODIFIED:20230801T131642Z
UID:318-1693440000-1693526399@dvcvisalia.com
SUMMARY:CHP
DESCRIPTION:
URL:https://dvcvisalia.com/event/chp-11/
END:VEVENT
BEGIN:VEVENT
DTSTART;VALUE=DATE:20230830
DTEND;VALUE=DATE:20230831
DTSTAMP:20260425T140340
CREATED:20230801T131622Z
LAST-MODIFIED:20230801T131622Z
UID:316-1693353600-1693439999@dvcvisalia.com
SUMMARY:VPD
DESCRIPTION:
URL:https://dvcvisalia.com/event/vpd-31/
END:VEVENT
BEGIN:VEVENT
DTSTART;VALUE=DATE:20230829
DTEND;VALUE=DATE:20230830
DTSTAMP:20260425T140340
CREATED:20230801T131557Z
LAST-MODIFIED:20230801T131557Z
UID:314-1693267200-1693353599@dvcvisalia.com
SUMMARY:PAROLE
DESCRIPTION:
URL:https://dvcvisalia.com/event/parole-5/
END:VEVENT
BEGIN:VEVENT
DTSTART;VALUE=DATE:20230825
DTEND;VALUE=DATE:20230826
DTSTAMP:20260425T140340
CREATED:20230801T131534Z
LAST-MODIFIED:20230801T131534Z
UID:312-1692921600-1693007999@dvcvisalia.com
SUMMARY:DINUBA
DESCRIPTION:
URL:https://dvcvisalia.com/event/dinuba-7/
END:VEVENT
BEGIN:VEVENT
DTSTART;VALUE=DATE:20230823
DTEND;VALUE=DATE:20230824
DTSTAMP:20260425T140340
CREATED:20230801T131513Z
LAST-MODIFIED:20230801T131513Z
UID:310-1692748800-1692835199@dvcvisalia.com
SUMMARY:COS
DESCRIPTION:
URL:https://dvcvisalia.com/event/cos-8/
END:VEVENT
BEGIN:VEVENT
DTSTART;VALUE=DATE:20230822
DTEND;VALUE=DATE:20230823
DTSTAMP:20260425T140340
CREATED:20230801T131441Z
LAST-MODIFIED:20230801T131441Z
UID:308-1692662400-1692748799@dvcvisalia.com
SUMMARY:COS
DESCRIPTION:
URL:https://dvcvisalia.com/event/cos-7/
END:VEVENT
BEGIN:VEVENT
DTSTART;VALUE=DATE:20230821
DTEND;VALUE=DATE:20230822
DTSTAMP:20260425T140340
CREATED:20230801T131418Z
LAST-MODIFIED:20230801T131418Z
UID:306-1692576000-1692662399@dvcvisalia.com
SUMMARY:VPD
DESCRIPTION:
URL:https://dvcvisalia.com/event/vpd-30/
END:VEVENT
BEGIN:VEVENT
DTSTART;VALUE=DATE:20230818
DTEND;VALUE=DATE:20230819
DTSTAMP:20260425T140340
CREATED:20230801T131338Z
LAST-MODIFIED:20230801T131338Z
UID:304-1692316800-1692403199@dvcvisalia.com
SUMMARY:TC PROBATION
DESCRIPTION:
URL:https://dvcvisalia.com/event/tc-probation-5/
END:VEVENT
BEGIN:VEVENT
DTSTART;TZID=America/Los_Angeles:20230817T170000
DTEND;TZID=America/Los_Angeles:20230817T220000
DTSTAMP:20260425T140340
CREATED:20230801T131303Z
LAST-MODIFIED:20230801T131303Z
UID:302-1692291600-1692309600@dvcvisalia.com
SUMMARY:Private Event
DESCRIPTION:
URL:https://dvcvisalia.com/event/private-event-2/
END:VEVENT
BEGIN:VEVENT
DTSTART;VALUE=DATE:20230813
DTEND;VALUE=DATE:20230817
DTSTAMP:20260425T140340
CREATED:20230801T131150Z
LAST-MODIFIED:20230801T131150Z
UID:300-1691884800-1692230399@dvcvisalia.com
SUMMARY:VPD
DESCRIPTION:
URL:https://dvcvisalia.com/event/vpd-29/
END:VEVENT
BEGIN:VEVENT
DTSTART;TZID=America/Los_Angeles:20230812T100000
DTEND;TZID=America/Los_Angeles:20230812T220000
DTSTAMP:20260425T140340
CREATED:20230801T131028Z
LAST-MODIFIED:20230801T131028Z
UID:298-1691834400-1691877600@dvcvisalia.com
SUMMARY:VPD
DESCRIPTION:
URL:https://dvcvisalia.com/event/vpd-28/
END:VEVENT
BEGIN:VEVENT
DTSTART;VALUE=DATE:20230810
DTEND;VALUE=DATE:20230811
DTSTAMP:20260425T140340
CREATED:20230801T130913Z
LAST-MODIFIED:20230801T130913Z
UID:296-1691625600-1691711999@dvcvisalia.com
SUMMARY:TC DA
DESCRIPTION:
URL:https://dvcvisalia.com/event/tc-da/
END:VEVENT
BEGIN:VEVENT
DTSTART;VALUE=DATE:20230809
DTEND;VALUE=DATE:20230810
DTSTAMP:20260425T140340
CREATED:20230801T130842Z
LAST-MODIFIED:20230801T130842Z
UID:294-1691539200-1691625599@dvcvisalia.com
SUMMARY:CHP
DESCRIPTION:
URL:https://dvcvisalia.com/event/chp-10/
END:VEVENT
BEGIN:VEVENT
DTSTART;TZID=America/Los_Angeles:20230805T150000
DTEND;TZID=America/Los_Angeles:20230805T220000
DTSTAMP:20260425T140340
CREATED:20230801T130741Z
LAST-MODIFIED:20230801T130741Z
UID:292-1691247600-1691272800@dvcvisalia.com
SUMMARY:Private Event
DESCRIPTION:
URL:https://dvcvisalia.com/event/private-event/
END:VEVENT
BEGIN:VEVENT
DTSTART;TZID=America/Los_Angeles:20230805T080000
DTEND;TZID=America/Los_Angeles:20230805T150000
DTSTAMP:20260425T140340
CREATED:20230801T130707Z
LAST-MODIFIED:20230801T130707Z
UID:290-1691222400-1691247600@dvcvisalia.com
SUMMARY:DVC
DESCRIPTION:
URL:https://dvcvisalia.com/event/dvc-8/
END:VEVENT
BEGIN:VEVENT
DTSTART;VALUE=DATE:20230801
DTEND;VALUE=DATE:20230805
DTSTAMP:20260425T140340
CREATED:20230801T130628Z
LAST-MODIFIED:20230801T130628Z
UID:288-1690848000-1691193599@dvcvisalia.com
SUMMARY:VPD
DESCRIPTION:
URL:https://dvcvisalia.com/event/vpd-27/
END:VEVENT
BEGIN:VEVENT
DTSTART;VALUE=DATE:20230726
DTEND;VALUE=DATE:20230727
DTSTAMP:20260425T140340
CREATED:20230701T184658Z
LAST-MODIFIED:20230701T184658Z
UID:269-1690329600-1690415999@dvcvisalia.com
SUMMARY:VPD
DESCRIPTION:
URL:https://dvcvisalia.com/event/vpd-26/
END:VEVENT
BEGIN:VEVENT
DTSTART;VALUE=DATE:20230725
DTEND;VALUE=DATE:20230726
DTSTAMP:20260425T140340
CREATED:20230701T184634Z
LAST-MODIFIED:20230701T184634Z
UID:267-1690243200-1690329599@dvcvisalia.com
SUMMARY:CHP
DESCRIPTION:
URL:https://dvcvisalia.com/event/chp-9/
END:VEVENT
BEGIN:VEVENT
DTSTART;VALUE=DATE:20230724
DTEND;VALUE=DATE:20230725
DTSTAMP:20260425T140340
CREATED:20230701T184614Z
LAST-MODIFIED:20230701T184614Z
UID:265-1690156800-1690243199@dvcvisalia.com
SUMMARY:VPD
DESCRIPTION:
URL:https://dvcvisalia.com/event/vpd-25/
END:VEVENT
BEGIN:VEVENT
DTSTART;VALUE=DATE:20230721
DTEND;VALUE=DATE:20230722
DTSTAMP:20260425T140340
CREATED:20230701T184543Z
LAST-MODIFIED:20230701T184543Z
UID:263-1689897600-1689983999@dvcvisalia.com
SUMMARY:TC PROBATION
DESCRIPTION:
URL:https://dvcvisalia.com/event/tc-probation-4/
END:VEVENT
BEGIN:VEVENT
DTSTART;VALUE=DATE:20230717
DTEND;VALUE=DATE:20230718
DTSTAMP:20260425T140340
CREATED:20230701T184515Z
LAST-MODIFIED:20230701T184515Z
UID:261-1689552000-1689638399@dvcvisalia.com
SUMMARY:VPD
DESCRIPTION:
URL:https://dvcvisalia.com/event/vpd-24/
END:VEVENT
BEGIN:VEVENT
DTSTART;VALUE=DATE:20230714
DTEND;VALUE=DATE:20230715
DTSTAMP:20260425T140340
CREATED:20230701T184454Z
LAST-MODIFIED:20230701T184454Z
UID:259-1689292800-1689379199@dvcvisalia.com
SUMMARY:DINUBA
DESCRIPTION:
URL:https://dvcvisalia.com/event/dinuba-6/
END:VEVENT
BEGIN:VEVENT
DTSTART;TZID=America/Los_Angeles:20230713T100000
DTEND;TZID=America/Los_Angeles:20230713T220000
DTSTAMP:20260425T140340
CREATED:20230701T184403Z
LAST-MODIFIED:20230701T184403Z
UID:257-1689242400-1689285600@dvcvisalia.com
SUMMARY:VPD
DESCRIPTION:
URL:https://dvcvisalia.com/event/vpd-23/
END:VEVENT
BEGIN:VEVENT
DTSTART;VALUE=DATE:20230706
DTEND;VALUE=DATE:20230707
DTSTAMP:20260425T140340
CREATED:20230701T184107Z
LAST-MODIFIED:20230701T184107Z
UID:255-1688601600-1688687999@dvcvisalia.com
SUMMARY:VPD
DESCRIPTION:
URL:https://dvcvisalia.com/event/vpd-22/
END:VEVENT
END:VCALENDAR