BEGIN:VCALENDAR
VERSION:2.0
PRODID:-//DVCVisalia - ECPv6.15.17//NONSGML v1.0//EN
CALSCALE:GREGORIAN
METHOD:PUBLISH
X-WR-CALNAME:DVCVisalia
X-ORIGINAL-URL:https://dvcvisalia.com
X-WR-CALDESC:Events for DVCVisalia
REFRESH-INTERVAL;VALUE=DURATION:PT1H
X-Robots-Tag:noindex
X-PUBLISHED-TTL:PT1H
BEGIN:VTIMEZONE
TZID:America/Los_Angeles
BEGIN:DAYLIGHT
TZOFFSETFROM:-0800
TZOFFSETTO:-0700
TZNAME:PDT
DTSTART:20240310T100000
END:DAYLIGHT
BEGIN:STANDARD
TZOFFSETFROM:-0700
TZOFFSETTO:-0800
TZNAME:PST
DTSTART:20241103T090000
END:STANDARD
BEGIN:DAYLIGHT
TZOFFSETFROM:-0800
TZOFFSETTO:-0700
TZNAME:PDT
DTSTART:20250309T100000
END:DAYLIGHT
BEGIN:STANDARD
TZOFFSETFROM:-0700
TZOFFSETTO:-0800
TZNAME:PST
DTSTART:20251102T090000
END:STANDARD
BEGIN:DAYLIGHT
TZOFFSETFROM:-0800
TZOFFSETTO:-0700
TZNAME:PDT
DTSTART:20260308T100000
END:DAYLIGHT
BEGIN:STANDARD
TZOFFSETFROM:-0700
TZOFFSETTO:-0800
TZNAME:PST
DTSTART:20261101T090000
END:STANDARD
END:VTIMEZONE
BEGIN:VEVENT
DTSTART;VALUE=DATE:20250820
DTEND;VALUE=DATE:20250821
DTSTAMP:20260423T142303
CREATED:20250802T005948Z
LAST-MODIFIED:20250802T005948Z
UID:1067-1755648000-1755734399@dvcvisalia.com
SUMMARY:CHP
DESCRIPTION:
URL:https://dvcvisalia.com/event/chp-62/
END:VEVENT
BEGIN:VEVENT
DTSTART;TZID=America/Los_Angeles:20250819T080000
DTEND;TZID=America/Los_Angeles:20250819T120000
DTSTAMP:20260423T142303
CREATED:20250802T005846Z
LAST-MODIFIED:20250802T005846Z
UID:1065-1755590400-1755604800@dvcvisalia.com
SUMMARY:Probation
DESCRIPTION:
URL:https://dvcvisalia.com/event/probation-8/
END:VEVENT
BEGIN:VEVENT
DTSTART;VALUE=DATE:20250818
DTEND;VALUE=DATE:20250819
DTSTAMP:20260423T142303
CREATED:20250802T005805Z
LAST-MODIFIED:20250802T005805Z
UID:1063-1755475200-1755561599@dvcvisalia.com
SUMMARY:VPD
DESCRIPTION:
URL:https://dvcvisalia.com/event/vpd-135/
END:VEVENT
BEGIN:VEVENT
DTSTART;VALUE=DATE:20250816
DTEND;VALUE=DATE:20250817
DTSTAMP:20260423T142303
CREATED:20250802T005725Z
LAST-MODIFIED:20250802T005725Z
UID:1061-1755302400-1755388799@dvcvisalia.com
SUMMARY:Private Range Closed
DESCRIPTION:
URL:https://dvcvisalia.com/event/private-range-closed-7/
END:VEVENT
BEGIN:VEVENT
DTSTART;VALUE=DATE:20250815
DTEND;VALUE=DATE:20250816
DTSTAMP:20260423T142303
CREATED:20250802T005645Z
LAST-MODIFIED:20250802T005645Z
UID:1059-1755216000-1755302399@dvcvisalia.com
SUMMARY:Dinuba
DESCRIPTION:
URL:https://dvcvisalia.com/event/dinuba-32/
END:VEVENT
BEGIN:VEVENT
DTSTART;VALUE=DATE:20250814
DTEND;VALUE=DATE:20250815
DTSTAMP:20260423T142303
CREATED:20250802T005606Z
LAST-MODIFIED:20250802T005606Z
UID:1057-1755129600-1755215999@dvcvisalia.com
SUMMARY:TCDA
DESCRIPTION:
URL:https://dvcvisalia.com/event/tcda-13/
END:VEVENT
BEGIN:VEVENT
DTSTART;VALUE=DATE:20250811
DTEND;VALUE=DATE:20250812
DTSTAMP:20260423T142303
CREATED:20250802T005312Z
LAST-MODIFIED:20250802T005312Z
UID:1055-1754870400-1754956799@dvcvisalia.com
SUMMARY:Dinuba
DESCRIPTION:
URL:https://dvcvisalia.com/event/dinuba-31/
END:VEVENT
BEGIN:VEVENT
DTSTART;VALUE=DATE:20250808
DTEND;VALUE=DATE:20250809
DTSTAMP:20260423T142303
CREATED:20250802T005225Z
LAST-MODIFIED:20250802T005225Z
UID:1053-1754611200-1754697599@dvcvisalia.com
SUMMARY:TC Probation
DESCRIPTION:
URL:https://dvcvisalia.com/event/tc-probation-27/
END:VEVENT
BEGIN:VEVENT
DTSTART;TZID=America/Los_Angeles:20250807T100000
DTEND;TZID=America/Los_Angeles:20250807T110000
DTSTAMP:20260423T142303
CREATED:20250802T005116Z
LAST-MODIFIED:20250802T005116Z
UID:1051-1754560800-1754564400@dvcvisalia.com
SUMMARY:VPD 1 lane only
DESCRIPTION:
URL:https://dvcvisalia.com/event/vpd-1-lane-only/
END:VEVENT
BEGIN:VEVENT
DTSTART;VALUE=DATE:20250806
DTEND;VALUE=DATE:20250807
DTSTAMP:20260423T142303
CREATED:20250802T004915Z
LAST-MODIFIED:20250802T004915Z
UID:1049-1754438400-1754524799@dvcvisalia.com
SUMMARY:CHP
DESCRIPTION:
URL:https://dvcvisalia.com/event/chp-61/
END:VEVENT
BEGIN:VEVENT
DTSTART;VALUE=DATE:20250802
DTEND;VALUE=DATE:20250803
DTSTAMP:20260423T142303
CREATED:20250701T184153Z
LAST-MODIFIED:20250701T184153Z
UID:1043-1754092800-1754179199@dvcvisalia.com
SUMMARY:DVC
DESCRIPTION:
URL:https://dvcvisalia.com/event/dvc-31/
END:VEVENT
BEGIN:VEVENT
DTSTART;VALUE=DATE:20250801
DTEND;VALUE=DATE:20250802
DTSTAMP:20260423T142303
CREATED:20250802T004720Z
LAST-MODIFIED:20250802T004720Z
UID:1047-1754006400-1754092799@dvcvisalia.com
SUMMARY:VPD
DESCRIPTION:
URL:https://dvcvisalia.com/event/vpd-134/
END:VEVENT
BEGIN:VEVENT
DTSTART;VALUE=DATE:20250728
DTEND;VALUE=DATE:20250801
DTSTAMP:20260423T142303
CREATED:20250701T184119Z
LAST-MODIFIED:20250701T184119Z
UID:1041-1753660800-1754006399@dvcvisalia.com
SUMMARY:VPD
DESCRIPTION:
URL:https://dvcvisalia.com/event/vpd-133/
END:VEVENT
BEGIN:VEVENT
DTSTART;VALUE=DATE:20250724
DTEND;VALUE=DATE:20250725
DTSTAMP:20260423T142303
CREATED:20250701T184055Z
LAST-MODIFIED:20250701T184055Z
UID:1039-1753315200-1753401599@dvcvisalia.com
SUMMARY:VPD
DESCRIPTION:
URL:https://dvcvisalia.com/event/vpd-132/
END:VEVENT
BEGIN:VEVENT
DTSTART;VALUE=DATE:20250721
DTEND;VALUE=DATE:20250722
DTSTAMP:20260423T142303
CREATED:20250701T184029Z
LAST-MODIFIED:20250701T184029Z
UID:1037-1753056000-1753142399@dvcvisalia.com
SUMMARY:VPD
DESCRIPTION:
URL:https://dvcvisalia.com/event/vpd-131/
END:VEVENT
BEGIN:VEVENT
DTSTART;VALUE=DATE:20250719
DTEND;VALUE=DATE:20250720
DTSTAMP:20260423T142303
CREATED:20250701T184004Z
LAST-MODIFIED:20250701T184004Z
UID:1035-1752883200-1752969599@dvcvisalia.com
SUMMARY:Private Event Range Closed
DESCRIPTION:
URL:https://dvcvisalia.com/event/private-event-range-closed-7/
END:VEVENT
BEGIN:VEVENT
DTSTART;VALUE=DATE:20250718
DTEND;VALUE=DATE:20250719
DTSTAMP:20260423T142303
CREATED:20250701T183935Z
LAST-MODIFIED:20250701T183935Z
UID:1033-1752796800-1752883199@dvcvisalia.com
SUMMARY:Probation
DESCRIPTION:
URL:https://dvcvisalia.com/event/probation-7/
END:VEVENT
BEGIN:VEVENT
DTSTART;VALUE=DATE:20250716
DTEND;VALUE=DATE:20250717
DTSTAMP:20260423T142303
CREATED:20250701T184247Z
LAST-MODIFIED:20250701T184247Z
UID:1045-1752624000-1752710399@dvcvisalia.com
SUMMARY:CHP
DESCRIPTION:
URL:https://dvcvisalia.com/event/chp-60/
END:VEVENT
BEGIN:VEVENT
DTSTART;VALUE=DATE:20250715
DTEND;VALUE=DATE:20250716
DTSTAMP:20260423T142303
CREATED:20250701T183915Z
LAST-MODIFIED:20250701T183915Z
UID:1031-1752537600-1752623999@dvcvisalia.com
SUMMARY:Dinuba
DESCRIPTION:
URL:https://dvcvisalia.com/event/dinuba-30/
END:VEVENT
BEGIN:VEVENT
DTSTART;VALUE=DATE:20250714
DTEND;VALUE=DATE:20250715
DTSTAMP:20260423T142303
CREATED:20250701T183848Z
LAST-MODIFIED:20250701T183848Z
UID:1029-1752451200-1752537599@dvcvisalia.com
SUMMARY:VPD
DESCRIPTION:
URL:https://dvcvisalia.com/event/vpd-130/
END:VEVENT
BEGIN:VEVENT
DTSTART;VALUE=DATE:20250711
DTEND;VALUE=DATE:20250712
DTSTAMP:20260423T142303
CREATED:20250701T183826Z
LAST-MODIFIED:20250701T183826Z
UID:1027-1752192000-1752278399@dvcvisalia.com
SUMMARY:VPD
DESCRIPTION:
URL:https://dvcvisalia.com/event/vpd-129/
END:VEVENT
BEGIN:VEVENT
DTSTART;TZID=America/Los_Angeles:20250710T080000
DTEND;TZID=America/Los_Angeles:20250710T220000
DTSTAMP:20260423T142303
CREATED:20250701T183747Z
LAST-MODIFIED:20250701T183747Z
UID:1025-1752134400-1752184800@dvcvisalia.com
SUMMARY:VIPS Banquet
DESCRIPTION:
URL:https://dvcvisalia.com/event/vips-banquet/
END:VEVENT
BEGIN:VEVENT
DTSTART;VALUE=DATE:20250707
DTEND;VALUE=DATE:20250708
DTSTAMP:20260423T142303
CREATED:20250701T183628Z
LAST-MODIFIED:20250701T183628Z
UID:1023-1751846400-1751932799@dvcvisalia.com
SUMMARY:VPD
DESCRIPTION:
URL:https://dvcvisalia.com/event/vpd-128/
END:VEVENT
BEGIN:VEVENT
DTSTART;VALUE=DATE:20250705
DTEND;VALUE=DATE:20250706
DTSTAMP:20260423T142303
CREATED:20250701T183606Z
LAST-MODIFIED:20250701T183606Z
UID:1021-1751673600-1751759999@dvcvisalia.com
SUMMARY:DVC
DESCRIPTION:
URL:https://dvcvisalia.com/event/dvc-30/
END:VEVENT
BEGIN:VEVENT
DTSTART;VALUE=DATE:20250702
DTEND;VALUE=DATE:20250703
DTSTAMP:20260423T142303
CREATED:20250701T183526Z
LAST-MODIFIED:20250701T183526Z
UID:1019-1751414400-1751500799@dvcvisalia.com
SUMMARY:CHP
DESCRIPTION:
URL:https://dvcvisalia.com/event/chp-59/
END:VEVENT
BEGIN:VEVENT
DTSTART;VALUE=DATE:20250701
DTEND;VALUE=DATE:20250702
DTSTAMP:20260423T142303
CREATED:20250701T183502Z
LAST-MODIFIED:20250701T183502Z
UID:1017-1751328000-1751414399@dvcvisalia.com
SUMMARY:VPD
DESCRIPTION:
URL:https://dvcvisalia.com/event/vpd-127/
END:VEVENT
BEGIN:VEVENT
DTSTART;VALUE=DATE:20250630
DTEND;VALUE=DATE:20250701
DTSTAMP:20260423T142303
CREATED:20250531T232738Z
LAST-MODIFIED:20250531T232738Z
UID:1015-1751241600-1751327999@dvcvisalia.com
SUMMARY:VPD
DESCRIPTION:
URL:https://dvcvisalia.com/event/vpd-126/
END:VEVENT
BEGIN:VEVENT
DTSTART;VALUE=DATE:20250625
DTEND;VALUE=DATE:20250626
DTSTAMP:20260423T142303
CREATED:20250531T232711Z
LAST-MODIFIED:20250531T232711Z
UID:1013-1750809600-1750895999@dvcvisalia.com
SUMMARY:VPD
DESCRIPTION:
URL:https://dvcvisalia.com/event/vpd-125/
END:VEVENT
BEGIN:VEVENT
DTSTART;VALUE=DATE:20250621
DTEND;VALUE=DATE:20250622
DTSTAMP:20260423T142303
CREATED:20250531T232643Z
LAST-MODIFIED:20250531T232643Z
UID:1011-1750464000-1750550399@dvcvisalia.com
SUMMARY:Private Event Range Closed
DESCRIPTION:
URL:https://dvcvisalia.com/event/private-event-range-closed-6/
END:VEVENT
BEGIN:VEVENT
DTSTART;VALUE=DATE:20250620
DTEND;VALUE=DATE:20250621
DTSTAMP:20260423T142303
CREATED:20250531T232604Z
LAST-MODIFIED:20250531T232604Z
UID:1009-1750377600-1750463999@dvcvisalia.com
SUMMARY:Probation
DESCRIPTION:
URL:https://dvcvisalia.com/event/probation-6/
END:VEVENT
END:VCALENDAR