BEGIN:VCALENDAR
VERSION:2.0
PRODID:-//DVCVisalia - ECPv6.15.17//NONSGML v1.0//EN
CALSCALE:GREGORIAN
METHOD:PUBLISH
X-ORIGINAL-URL:https://dvcvisalia.com
X-WR-CALDESC:Events for DVCVisalia
REFRESH-INTERVAL;VALUE=DURATION:PT1H
X-Robots-Tag:noindex
X-PUBLISHED-TTL:PT1H
BEGIN:VTIMEZONE
TZID:America/Los_Angeles
BEGIN:DAYLIGHT
TZOFFSETFROM:-0800
TZOFFSETTO:-0700
TZNAME:PDT
DTSTART:20220313T100000
END:DAYLIGHT
BEGIN:STANDARD
TZOFFSETFROM:-0700
TZOFFSETTO:-0800
TZNAME:PST
DTSTART:20221106T090000
END:STANDARD
BEGIN:DAYLIGHT
TZOFFSETFROM:-0800
TZOFFSETTO:-0700
TZNAME:PDT
DTSTART:20230312T100000
END:DAYLIGHT
BEGIN:STANDARD
TZOFFSETFROM:-0700
TZOFFSETTO:-0800
TZNAME:PST
DTSTART:20231105T090000
END:STANDARD
BEGIN:DAYLIGHT
TZOFFSETFROM:-0800
TZOFFSETTO:-0700
TZNAME:PDT
DTSTART:20240310T100000
END:DAYLIGHT
BEGIN:STANDARD
TZOFFSETFROM:-0700
TZOFFSETTO:-0800
TZNAME:PST
DTSTART:20241103T090000
END:STANDARD
END:VTIMEZONE
BEGIN:VEVENT
DTSTART;TZID=America/Los_Angeles:20231113T080000
DTEND;TZID=America/Los_Angeles:20231113T170000
DTSTAMP:20260425T083758
CREATED:20231101T175701Z
LAST-MODIFIED:20231101T175701Z
UID:408-1699862400-1699894800@dvcvisalia.com
SUMMARY:VPD
DESCRIPTION:
URL:https://dvcvisalia.com/event/vpd-45/
END:VEVENT
BEGIN:VEVENT
DTSTART;TZID=America/Los_Angeles:20231109T080000
DTEND;TZID=America/Los_Angeles:20231109T170000
DTSTAMP:20260425T083758
CREATED:20231101T175621Z
LAST-MODIFIED:20231101T175621Z
UID:406-1699516800-1699549200@dvcvisalia.com
SUMMARY:Federal Probation
DESCRIPTION:
URL:https://dvcvisalia.com/event/federal-probation-2/
END:VEVENT
BEGIN:VEVENT
DTSTART;TZID=America/Los_Angeles:20231108T080000
DTEND;TZID=America/Los_Angeles:20231108T170000
DTSTAMP:20260425T083758
CREATED:20231101T175549Z
LAST-MODIFIED:20231101T175549Z
UID:404-1699430400-1699462800@dvcvisalia.com
SUMMARY:CHP
DESCRIPTION:
URL:https://dvcvisalia.com/event/chp-16/
END:VEVENT
BEGIN:VEVENT
DTSTART;VALUE=DATE:20231106
DTEND;VALUE=DATE:20231107
DTSTAMP:20260425T083758
CREATED:20231101T175442Z
LAST-MODIFIED:20231101T175442Z
UID:402-1699228800-1699315199@dvcvisalia.com
SUMMARY:Dinuba
DESCRIPTION:
URL:https://dvcvisalia.com/event/dinuba-11/
END:VEVENT
BEGIN:VEVENT
DTSTART;VALUE=DATE:20231104
DTEND;VALUE=DATE:20231105
DTSTAMP:20260425T083758
CREATED:20231001T212758Z
LAST-MODIFIED:20231001T213549Z
UID:397-1699056000-1699142399@dvcvisalia.com
SUMMARY:DVC
DESCRIPTION:
URL:https://dvcvisalia.com/event/dvc-11/
END:VEVENT
BEGIN:VEVENT
DTSTART;TZID=America/Los_Angeles:20231103T080000
DTEND;TZID=America/Los_Angeles:20231103T170000
DTSTAMP:20260425T083758
CREATED:20231001T212737Z
LAST-MODIFIED:20231001T212737Z
UID:395-1698998400-1699030800@dvcvisalia.com
SUMMARY:Dinuba
DESCRIPTION:
URL:https://dvcvisalia.com/event/dinuba-10/
END:VEVENT
BEGIN:VEVENT
DTSTART;VALUE=DATE:20231102
DTEND;VALUE=DATE:20231103
DTSTAMP:20260425T083758
CREATED:20231101T175334Z
LAST-MODIFIED:20231101T175334Z
UID:400-1698883200-1698969599@dvcvisalia.com
SUMMARY:DOJ
DESCRIPTION:
URL:https://dvcvisalia.com/event/doj/
END:VEVENT
BEGIN:VEVENT
DTSTART;VALUE=DATE:20231101
DTEND;VALUE=DATE:20231102
DTSTAMP:20260425T083758
CREATED:20231001T212715Z
LAST-MODIFIED:20231001T212715Z
UID:393-1698796800-1698883199@dvcvisalia.com
SUMMARY:VPD
DESCRIPTION:
URL:https://dvcvisalia.com/event/vpd-44/
END:VEVENT
BEGIN:VEVENT
DTSTART;VALUE=DATE:20231028
DTEND;VALUE=DATE:20231029
DTSTAMP:20260425T083758
CREATED:20231001T212652Z
LAST-MODIFIED:20231001T212652Z
UID:391-1698451200-1698537599@dvcvisalia.com
SUMMARY:VPD
DESCRIPTION:
URL:https://dvcvisalia.com/event/vpd-43/
END:VEVENT
BEGIN:VEVENT
DTSTART;VALUE=DATE:20231027
DTEND;VALUE=DATE:20231028
DTSTAMP:20260425T083758
CREATED:20231001T212633Z
LAST-MODIFIED:20231001T212633Z
UID:389-1698364800-1698451199@dvcvisalia.com
SUMMARY:VPD
DESCRIPTION:
URL:https://dvcvisalia.com/event/vpd-42/
END:VEVENT
BEGIN:VEVENT
DTSTART;TZID=America/Los_Angeles:20231026T080000
DTEND;TZID=America/Los_Angeles:20231026T170000
DTSTAMP:20260425T083758
CREATED:20231001T212612Z
LAST-MODIFIED:20231001T212612Z
UID:387-1698307200-1698339600@dvcvisalia.com
SUMMARY:CHP
DESCRIPTION:
URL:https://dvcvisalia.com/event/chp-15/
END:VEVENT
BEGIN:VEVENT
DTSTART;TZID=America/Los_Angeles:20231025T080000
DTEND;TZID=America/Los_Angeles:20231025T170000
DTSTAMP:20260425T083758
CREATED:20231001T212552Z
LAST-MODIFIED:20231001T212552Z
UID:385-1698220800-1698253200@dvcvisalia.com
SUMMARY:VPD
DESCRIPTION:
URL:https://dvcvisalia.com/event/vpd-41/
END:VEVENT
BEGIN:VEVENT
DTSTART;VALUE=DATE:20231023
DTEND;VALUE=DATE:20231024
DTSTAMP:20260425T083758
CREATED:20231001T212458Z
LAST-MODIFIED:20231001T212458Z
UID:383-1698019200-1698105599@dvcvisalia.com
SUMMARY:VPD
DESCRIPTION:
URL:https://dvcvisalia.com/event/vpd-40/
END:VEVENT
BEGIN:VEVENT
DTSTART;VALUE=DATE:20231021
DTEND;VALUE=DATE:20231022
DTSTAMP:20260425T083758
CREATED:20231001T212417Z
LAST-MODIFIED:20231001T212417Z
UID:381-1697846400-1697932799@dvcvisalia.com
SUMMARY:VPD
DESCRIPTION:
URL:https://dvcvisalia.com/event/vpd-39/
END:VEVENT
BEGIN:VEVENT
DTSTART;TZID=America/Los_Angeles:20231020T080000
DTEND;TZID=America/Los_Angeles:20231020T170000
DTSTAMP:20260425T083758
CREATED:20231001T212353Z
LAST-MODIFIED:20231001T212941Z
UID:379-1697788800-1697821200@dvcvisalia.com
SUMMARY:TC Probation
DESCRIPTION:
URL:https://dvcvisalia.com/event/tc-probation-7/
END:VEVENT
BEGIN:VEVENT
DTSTART;VALUE=DATE:20231018
DTEND;VALUE=DATE:20231019
DTSTAMP:20260425T083758
CREATED:20231001T212328Z
LAST-MODIFIED:20231001T212328Z
UID:377-1697587200-1697673599@dvcvisalia.com
SUMMARY:VPD
DESCRIPTION:
URL:https://dvcvisalia.com/event/vpd-38/
END:VEVENT
BEGIN:VEVENT
DTSTART;TZID=America/Los_Angeles:20231016T080000
DTEND;TZID=America/Los_Angeles:20231016T170000
DTSTAMP:20260425T083758
CREATED:20231001T212306Z
LAST-MODIFIED:20231001T213109Z
UID:375-1697443200-1697475600@dvcvisalia.com
SUMMARY:VPD
DESCRIPTION:
URL:https://dvcvisalia.com/event/vpd-37/
END:VEVENT
BEGIN:VEVENT
DTSTART;VALUE=DATE:20231014
DTEND;VALUE=DATE:20231015
DTSTAMP:20260425T083758
CREATED:20231001T212246Z
LAST-MODIFIED:20231001T212246Z
UID:373-1697241600-1697327999@dvcvisalia.com
SUMMARY:VPD
DESCRIPTION:
URL:https://dvcvisalia.com/event/vpd-36/
END:VEVENT
BEGIN:VEVENT
DTSTART;TZID=America/Los_Angeles:20231013T080000
DTEND;TZID=America/Los_Angeles:20231013T170000
DTSTAMP:20260425T083758
CREATED:20231001T212223Z
LAST-MODIFIED:20231001T213149Z
UID:371-1697184000-1697216400@dvcvisalia.com
SUMMARY:Dinuba
DESCRIPTION:
URL:https://dvcvisalia.com/event/dinuba-9/
END:VEVENT
BEGIN:VEVENT
DTSTART;TZID=America/Los_Angeles:20231012T080000
DTEND;TZID=America/Los_Angeles:20231012T170000
DTSTAMP:20260425T083758
CREATED:20231001T212144Z
LAST-MODIFIED:20231001T213228Z
UID:369-1697097600-1697130000@dvcvisalia.com
SUMMARY:VPD
DESCRIPTION:
URL:https://dvcvisalia.com/event/vpd-35/
END:VEVENT
BEGIN:VEVENT
DTSTART;TZID=America/Los_Angeles:20231011T080000
DTEND;TZID=America/Los_Angeles:20231011T170000
DTSTAMP:20260425T083758
CREATED:20231001T212122Z
LAST-MODIFIED:20231001T213259Z
UID:367-1697011200-1697043600@dvcvisalia.com
SUMMARY:CHP
DESCRIPTION:
URL:https://dvcvisalia.com/event/chp-14/
END:VEVENT
BEGIN:VEVENT
DTSTART;TZID=America/Los_Angeles:20231009T120000
DTEND;TZID=America/Los_Angeles:20231009T220000
DTSTAMP:20260425T083758
CREATED:20231001T212059Z
LAST-MODIFIED:20231001T212059Z
UID:365-1696852800-1696888800@dvcvisalia.com
SUMMARY:COS
DESCRIPTION:
URL:https://dvcvisalia.com/event/cos-16/
END:VEVENT
BEGIN:VEVENT
DTSTART;VALUE=DATE:20231007
DTEND;VALUE=DATE:20231008
DTSTAMP:20260425T083758
CREATED:20231001T211952Z
LAST-MODIFIED:20231001T211952Z
UID:363-1696636800-1696723199@dvcvisalia.com
SUMMARY:DVC
DESCRIPTION:
URL:https://dvcvisalia.com/event/dvc-9/
END:VEVENT
BEGIN:VEVENT
DTSTART;TZID=America/Los_Angeles:20231005T080000
DTEND;TZID=America/Los_Angeles:20231005T170000
DTSTAMP:20260425T083758
CREATED:20231001T211611Z
LAST-MODIFIED:20231001T213425Z
UID:361-1696492800-1696525200@dvcvisalia.com
SUMMARY:TC DA
DESCRIPTION:
URL:https://dvcvisalia.com/event/tc-da-2/
END:VEVENT
BEGIN:VEVENT
DTSTART;VALUE=DATE:20230927
DTEND;VALUE=DATE:20230928
DTSTAMP:20260425T083758
CREATED:20230901T182317Z
LAST-MODIFIED:20230901T182317Z
UID:358-1695772800-1695859199@dvcvisalia.com
SUMMARY:CHP
DESCRIPTION:
URL:https://dvcvisalia.com/event/chp-13/
END:VEVENT
BEGIN:VEVENT
DTSTART;TZID=America/Los_Angeles:20230926T120000
DTEND;TZID=America/Los_Angeles:20230926T220000
DTSTAMP:20260425T083758
CREATED:20230901T182253Z
LAST-MODIFIED:20230901T182253Z
UID:356-1695729600-1695765600@dvcvisalia.com
SUMMARY:COS
DESCRIPTION:
URL:https://dvcvisalia.com/event/cos-15/
END:VEVENT
BEGIN:VEVENT
DTSTART;TZID=America/Los_Angeles:20230925T120000
DTEND;TZID=America/Los_Angeles:20230925T220000
DTSTAMP:20260425T083758
CREATED:20230901T182212Z
LAST-MODIFIED:20230901T182212Z
UID:354-1695643200-1695679200@dvcvisalia.com
SUMMARY:COS
DESCRIPTION:
URL:https://dvcvisalia.com/event/cos-14/
END:VEVENT
BEGIN:VEVENT
DTSTART;VALUE=DATE:20230922
DTEND;VALUE=DATE:20230923
DTSTAMP:20260425T083758
CREATED:20230901T182141Z
LAST-MODIFIED:20230901T182141Z
UID:352-1695340800-1695427199@dvcvisalia.com
SUMMARY:Dinuba
DESCRIPTION:
URL:https://dvcvisalia.com/event/dinuba-8/
END:VEVENT
BEGIN:VEVENT
DTSTART;VALUE=DATE:20230921
DTEND;VALUE=DATE:20230922
DTSTAMP:20260425T083758
CREATED:20230901T182120Z
LAST-MODIFIED:20230901T182120Z
UID:350-1695254400-1695340799@dvcvisalia.com
SUMMARY:Parole
DESCRIPTION:
URL:https://dvcvisalia.com/event/parole-6/
END:VEVENT
BEGIN:VEVENT
DTSTART;TZID=America/Los_Angeles:20230920T120000
DTEND;TZID=America/Los_Angeles:20230920T220000
DTSTAMP:20260425T083758
CREATED:20230901T182039Z
LAST-MODIFIED:20230901T182039Z
UID:348-1695211200-1695247200@dvcvisalia.com
SUMMARY:COS
DESCRIPTION:
URL:https://dvcvisalia.com/event/cos-13/
END:VEVENT
END:VCALENDAR