BEGIN:VCALENDAR
VERSION:2.0
PRODID:-//DVCVisalia - ECPv6.15.17//NONSGML v1.0//EN
CALSCALE:GREGORIAN
METHOD:PUBLISH
X-WR-CALNAME:DVCVisalia
X-ORIGINAL-URL:https://dvcvisalia.com
X-WR-CALDESC:Events for DVCVisalia
REFRESH-INTERVAL;VALUE=DURATION:PT1H
X-Robots-Tag:noindex
X-PUBLISHED-TTL:PT1H
BEGIN:VTIMEZONE
TZID:America/Los_Angeles
BEGIN:DAYLIGHT
TZOFFSETFROM:-0800
TZOFFSETTO:-0700
TZNAME:PDT
DTSTART:20220313T100000
END:DAYLIGHT
BEGIN:STANDARD
TZOFFSETFROM:-0700
TZOFFSETTO:-0800
TZNAME:PST
DTSTART:20221106T090000
END:STANDARD
BEGIN:DAYLIGHT
TZOFFSETFROM:-0800
TZOFFSETTO:-0700
TZNAME:PDT
DTSTART:20230312T100000
END:DAYLIGHT
BEGIN:STANDARD
TZOFFSETFROM:-0700
TZOFFSETTO:-0800
TZNAME:PST
DTSTART:20231105T090000
END:STANDARD
BEGIN:DAYLIGHT
TZOFFSETFROM:-0800
TZOFFSETTO:-0700
TZNAME:PDT
DTSTART:20240310T100000
END:DAYLIGHT
BEGIN:STANDARD
TZOFFSETFROM:-0700
TZOFFSETTO:-0800
TZNAME:PST
DTSTART:20241103T090000
END:STANDARD
BEGIN:DAYLIGHT
TZOFFSETFROM:-0800
TZOFFSETTO:-0700
TZNAME:PDT
DTSTART:20250309T100000
END:DAYLIGHT
BEGIN:STANDARD
TZOFFSETFROM:-0700
TZOFFSETTO:-0800
TZNAME:PST
DTSTART:20251102T090000
END:STANDARD
END:VTIMEZONE
BEGIN:VEVENT
DTSTART;VALUE=DATE:20240112
DTEND;VALUE=DATE:20240113
DTSTAMP:20260425T050008
CREATED:20240103T163652Z
LAST-MODIFIED:20240103T163652Z
UID:470-1705017600-1705103999@dvcvisalia.com
SUMMARY:TC Probation
DESCRIPTION:
URL:https://dvcvisalia.com/event/tc-probation-10/
END:VEVENT
BEGIN:VEVENT
DTSTART;VALUE=DATE:20240111
DTEND;VALUE=DATE:20240112
DTSTAMP:20260425T050008
CREATED:20240103T163429Z
LAST-MODIFIED:20240103T163557Z
UID:465-1704931200-1705017599@dvcvisalia.com
SUMMARY:VPD
DESCRIPTION:
URL:https://dvcvisalia.com/event/vpd-54/
END:VEVENT
BEGIN:VEVENT
DTSTART;VALUE=DATE:20240110
DTEND;VALUE=DATE:20240111
DTSTAMP:20260425T050008
CREATED:20240103T163259Z
LAST-MODIFIED:20240103T163325Z
UID:460-1704844800-1704931199@dvcvisalia.com
SUMMARY:CHP
DESCRIPTION:
URL:https://dvcvisalia.com/event/vpd-52/
END:VEVENT
BEGIN:VEVENT
DTSTART;VALUE=DATE:20240109
DTEND;VALUE=DATE:20240110
DTSTAMP:20260425T050008
CREATED:20240103T163408Z
LAST-MODIFIED:20240103T163408Z
UID:463-1704758400-1704844799@dvcvisalia.com
SUMMARY:VPD
DESCRIPTION:
URL:https://dvcvisalia.com/event/vpd-53/
END:VEVENT
BEGIN:VEVENT
DTSTART;VALUE=DATE:20240108
DTEND;VALUE=DATE:20240109
DTSTAMP:20260425T050008
CREATED:20240103T163152Z
LAST-MODIFIED:20240103T163152Z
UID:457-1704672000-1704758399@dvcvisalia.com
SUMMARY:VPD
DESCRIPTION:
URL:https://dvcvisalia.com/event/vpd-51/
END:VEVENT
BEGIN:VEVENT
DTSTART;VALUE=DATE:20240106
DTEND;VALUE=DATE:20240107
DTSTAMP:20260425T050008
CREATED:20240103T164657Z
LAST-MODIFIED:20240103T164657Z
UID:500-1704499200-1704585599@dvcvisalia.com
SUMMARY:DVC
DESCRIPTION:
URL:https://dvcvisalia.com/event/dvc-13/
END:VEVENT
BEGIN:VEVENT
DTSTART;TZID=America/Los_Angeles:20240104T150000
DTEND;TZID=America/Los_Angeles:20240104T220000
DTSTAMP:20260425T050008
CREATED:20240103T162556Z
LAST-MODIFIED:20240103T162556Z
UID:450-1704380400-1704405600@dvcvisalia.com
SUMMARY:COS
DESCRIPTION:
URL:https://dvcvisalia.com/event/cos-19/
END:VEVENT
BEGIN:VEVENT
DTSTART;TZID=America/Los_Angeles:20231228T080000
DTEND;TZID=America/Los_Angeles:20231228T170000
DTSTAMP:20260425T050008
CREATED:20231129T013618Z
LAST-MODIFIED:20231129T013618Z
UID:445-1703750400-1703782800@dvcvisalia.com
SUMMARY:CHP
DESCRIPTION:
URL:https://dvcvisalia.com/event/chp-19/
END:VEVENT
BEGIN:VEVENT
DTSTART;VALUE=DATE:20231221
DTEND;VALUE=DATE:20231222
DTSTAMP:20260425T050008
CREATED:20231129T013539Z
LAST-MODIFIED:20231129T013539Z
UID:443-1703116800-1703203199@dvcvisalia.com
SUMMARY:COS
DESCRIPTION:
URL:https://dvcvisalia.com/event/cos-18/
END:VEVENT
BEGIN:VEVENT
DTSTART;TZID=America/Los_Angeles:20231220T080000
DTEND;TZID=America/Los_Angeles:20231220T170000
DTSTAMP:20260425T050008
CREATED:20231129T013455Z
LAST-MODIFIED:20231129T013455Z
UID:441-1703059200-1703091600@dvcvisalia.com
SUMMARY:VPD
DESCRIPTION:
URL:https://dvcvisalia.com/event/vpd-50/
END:VEVENT
BEGIN:VEVENT
DTSTART;VALUE=DATE:20231218
DTEND;VALUE=DATE:20231220
DTSTAMP:20260425T050008
CREATED:20231129T013407Z
LAST-MODIFIED:20231129T013407Z
UID:438-1702857600-1703030399@dvcvisalia.com
SUMMARY:COS
DESCRIPTION:
URL:https://dvcvisalia.com/event/cos-17/
END:VEVENT
BEGIN:VEVENT
DTSTART;TZID=America/Los_Angeles:20231215T080000
DTEND;TZID=America/Los_Angeles:20231215T170000
DTSTAMP:20260425T050008
CREATED:20231129T013317Z
LAST-MODIFIED:20231129T013317Z
UID:436-1702627200-1702659600@dvcvisalia.com
SUMMARY:TC Probation
DESCRIPTION:
URL:https://dvcvisalia.com/event/tc-probation-9/
END:VEVENT
BEGIN:VEVENT
DTSTART;TZID=America/Los_Angeles:20231214T080000
DTEND;TZID=America/Los_Angeles:20231214T170000
DTSTAMP:20260425T050008
CREATED:20231129T013233Z
LAST-MODIFIED:20231129T013233Z
UID:434-1702540800-1702573200@dvcvisalia.com
SUMMARY:TCDA
DESCRIPTION:
URL:https://dvcvisalia.com/event/tcda-6/
END:VEVENT
BEGIN:VEVENT
DTSTART;TZID=America/Los_Angeles:20231213T080000
DTEND;TZID=America/Los_Angeles:20231213T170000
DTSTAMP:20260425T050008
CREATED:20231129T013122Z
LAST-MODIFIED:20231129T013122Z
UID:432-1702454400-1702486800@dvcvisalia.com
SUMMARY:CHP
DESCRIPTION:
URL:https://dvcvisalia.com/event/chp-18/
END:VEVENT
BEGIN:VEVENT
DTSTART;TZID=America/Los_Angeles:20231212T080000
DTEND;TZID=America/Los_Angeles:20231212T170000
DTSTAMP:20260425T050008
CREATED:20231129T013044Z
LAST-MODIFIED:20231129T013044Z
UID:430-1702368000-1702400400@dvcvisalia.com
SUMMARY:Parole
DESCRIPTION:
URL:https://dvcvisalia.com/event/parole-8/
END:VEVENT
BEGIN:VEVENT
DTSTART;TZID=America/Los_Angeles:20231211T080000
DTEND;TZID=America/Los_Angeles:20231211T170000
DTSTAMP:20260425T050008
CREATED:20231129T013005Z
LAST-MODIFIED:20231129T013005Z
UID:428-1702281600-1702314000@dvcvisalia.com
SUMMARY:VPD
DESCRIPTION:
URL:https://dvcvisalia.com/event/vpd-49/
END:VEVENT
BEGIN:VEVENT
DTSTART;TZID=America/Los_Angeles:20231208T080000
DTEND;TZID=America/Los_Angeles:20231208T170000
DTSTAMP:20260425T050008
CREATED:20231129T012909Z
LAST-MODIFIED:20231129T012909Z
UID:426-1702022400-1702054800@dvcvisalia.com
SUMMARY:Dinuba
DESCRIPTION:
URL:https://dvcvisalia.com/event/dinuba-12/
END:VEVENT
BEGIN:VEVENT
DTSTART;VALUE=DATE:20231203
DTEND;VALUE=DATE:20231208
DTSTAMP:20260425T050008
CREATED:20231129T012741Z
LAST-MODIFIED:20231129T012741Z
UID:424-1701561600-1701993599@dvcvisalia.com
SUMMARY:VPD
DESCRIPTION:
URL:https://dvcvisalia.com/event/vpd-48/
END:VEVENT
BEGIN:VEVENT
DTSTART;VALUE=DATE:20231202
DTEND;VALUE=DATE:20231203
DTSTAMP:20260425T050008
CREATED:20231101T175922Z
LAST-MODIFIED:20231101T175922Z
UID:418-1701475200-1701561599@dvcvisalia.com
SUMMARY:DVC
DESCRIPTION:
URL:https://dvcvisalia.com/event/dvc-12/
END:VEVENT
BEGIN:VEVENT
DTSTART;VALUE=DATE:20231130
DTEND;VALUE=DATE:20231201
DTSTAMP:20260425T050008
CREATED:20231129T011827Z
LAST-MODIFIED:20231129T011827Z
UID:421-1701302400-1701388799@dvcvisalia.com
SUMMARY:VPD
DESCRIPTION:
URL:https://dvcvisalia.com/event/vpd-47/
END:VEVENT
BEGIN:VEVENT
DTSTART;TZID=America/Los_Angeles:20231129T080000
DTEND;TZID=America/Los_Angeles:20231129T170000
DTSTAMP:20260425T050008
CREATED:20231101T175856Z
LAST-MODIFIED:20231101T175856Z
UID:416-1701244800-1701277200@dvcvisalia.com
SUMMARY:CHP
DESCRIPTION:
URL:https://dvcvisalia.com/event/chp-17/
END:VEVENT
BEGIN:VEVENT
DTSTART;TZID=America/Los_Angeles:20231117T080000
DTEND;TZID=America/Los_Angeles:20231117T170000
DTSTAMP:20260425T050008
CREATED:20231101T175812Z
LAST-MODIFIED:20231101T180203Z
UID:414-1700208000-1700240400@dvcvisalia.com
SUMMARY:TC Probation
DESCRIPTION:
URL:https://dvcvisalia.com/event/tc-probation-8/
END:VEVENT
BEGIN:VEVENT
DTSTART;TZID=America/Los_Angeles:20231115T080000
DTEND;TZID=America/Los_Angeles:20231115T170000
DTSTAMP:20260425T050008
CREATED:20231101T175750Z
LAST-MODIFIED:20231101T175750Z
UID:412-1700035200-1700067600@dvcvisalia.com
SUMMARY:VPD
DESCRIPTION:
URL:https://dvcvisalia.com/event/vpd-46/
END:VEVENT
BEGIN:VEVENT
DTSTART;TZID=America/Los_Angeles:20231114T080000
DTEND;TZID=America/Los_Angeles:20231114T170000
DTSTAMP:20260425T050008
CREATED:20231101T175729Z
LAST-MODIFIED:20231101T175729Z
UID:410-1699948800-1699981200@dvcvisalia.com
SUMMARY:Parole
DESCRIPTION:
URL:https://dvcvisalia.com/event/parole-7/
END:VEVENT
BEGIN:VEVENT
DTSTART;TZID=America/Los_Angeles:20231113T080000
DTEND;TZID=America/Los_Angeles:20231113T170000
DTSTAMP:20260425T050008
CREATED:20231101T175701Z
LAST-MODIFIED:20231101T175701Z
UID:408-1699862400-1699894800@dvcvisalia.com
SUMMARY:VPD
DESCRIPTION:
URL:https://dvcvisalia.com/event/vpd-45/
END:VEVENT
BEGIN:VEVENT
DTSTART;TZID=America/Los_Angeles:20231109T080000
DTEND;TZID=America/Los_Angeles:20231109T170000
DTSTAMP:20260425T050008
CREATED:20231101T175621Z
LAST-MODIFIED:20231101T175621Z
UID:406-1699516800-1699549200@dvcvisalia.com
SUMMARY:Federal Probation
DESCRIPTION:
URL:https://dvcvisalia.com/event/federal-probation-2/
END:VEVENT
BEGIN:VEVENT
DTSTART;TZID=America/Los_Angeles:20231108T080000
DTEND;TZID=America/Los_Angeles:20231108T170000
DTSTAMP:20260425T050008
CREATED:20231101T175549Z
LAST-MODIFIED:20231101T175549Z
UID:404-1699430400-1699462800@dvcvisalia.com
SUMMARY:CHP
DESCRIPTION:
URL:https://dvcvisalia.com/event/chp-16/
END:VEVENT
BEGIN:VEVENT
DTSTART;VALUE=DATE:20231106
DTEND;VALUE=DATE:20231107
DTSTAMP:20260425T050008
CREATED:20231101T175442Z
LAST-MODIFIED:20231101T175442Z
UID:402-1699228800-1699315199@dvcvisalia.com
SUMMARY:Dinuba
DESCRIPTION:
URL:https://dvcvisalia.com/event/dinuba-11/
END:VEVENT
BEGIN:VEVENT
DTSTART;VALUE=DATE:20231104
DTEND;VALUE=DATE:20231105
DTSTAMP:20260425T050008
CREATED:20231001T212758Z
LAST-MODIFIED:20231001T213549Z
UID:397-1699056000-1699142399@dvcvisalia.com
SUMMARY:DVC
DESCRIPTION:
URL:https://dvcvisalia.com/event/dvc-11/
END:VEVENT
BEGIN:VEVENT
DTSTART;TZID=America/Los_Angeles:20231103T080000
DTEND;TZID=America/Los_Angeles:20231103T170000
DTSTAMP:20260425T050008
CREATED:20231001T212737Z
LAST-MODIFIED:20231001T212737Z
UID:395-1698998400-1699030800@dvcvisalia.com
SUMMARY:Dinuba
DESCRIPTION:
URL:https://dvcvisalia.com/event/dinuba-10/
END:VEVENT
END:VCALENDAR