BEGIN:VCALENDAR
VERSION:2.0
PRODID:-//DVCVisalia - ECPv6.15.17//NONSGML v1.0//EN
CALSCALE:GREGORIAN
METHOD:PUBLISH
X-WR-CALNAME:DVCVisalia
X-ORIGINAL-URL:https://dvcvisalia.com
X-WR-CALDESC:Events for DVCVisalia
REFRESH-INTERVAL;VALUE=DURATION:PT1H
X-Robots-Tag:noindex
X-PUBLISHED-TTL:PT1H
BEGIN:VTIMEZONE
TZID:America/Los_Angeles
BEGIN:DAYLIGHT
TZOFFSETFROM:-0800
TZOFFSETTO:-0700
TZNAME:PDT
DTSTART:20230312T100000
END:DAYLIGHT
BEGIN:STANDARD
TZOFFSETFROM:-0700
TZOFFSETTO:-0800
TZNAME:PST
DTSTART:20231105T090000
END:STANDARD
BEGIN:DAYLIGHT
TZOFFSETFROM:-0800
TZOFFSETTO:-0700
TZNAME:PDT
DTSTART:20240310T100000
END:DAYLIGHT
BEGIN:STANDARD
TZOFFSETFROM:-0700
TZOFFSETTO:-0800
TZNAME:PST
DTSTART:20241103T090000
END:STANDARD
BEGIN:DAYLIGHT
TZOFFSETFROM:-0800
TZOFFSETTO:-0700
TZNAME:PDT
DTSTART:20250309T100000
END:DAYLIGHT
BEGIN:STANDARD
TZOFFSETFROM:-0700
TZOFFSETTO:-0800
TZNAME:PST
DTSTART:20251102T090000
END:STANDARD
END:VTIMEZONE
BEGIN:VEVENT
DTSTART;TZID=America/Los_Angeles:20240525T080000
DTEND;TZID=America/Los_Angeles:20240525T170000
DTSTAMP:20260424T195709
CREATED:20240501T223235Z
LAST-MODIFIED:20240501T223235Z
UID:600-1716624000-1716656400@dvcvisalia.com
SUMMARY:Private Range Closed
DESCRIPTION:
URL:https://dvcvisalia.com/event/private-range-closed/
END:VEVENT
BEGIN:VEVENT
DTSTART;VALUE=DATE:20240523
DTEND;VALUE=DATE:20240524
DTSTAMP:20260424T195709
CREATED:20240501T223142Z
LAST-MODIFIED:20240501T223142Z
UID:598-1716422400-1716508799@dvcvisalia.com
SUMMARY:Federal Probation
DESCRIPTION:
URL:https://dvcvisalia.com/event/federal-probation-4/
END:VEVENT
BEGIN:VEVENT
DTSTART;VALUE=DATE:20240522
DTEND;VALUE=DATE:20240523
DTSTAMP:20260424T195709
CREATED:20240501T223104Z
LAST-MODIFIED:20240501T223104Z
UID:596-1716336000-1716422399@dvcvisalia.com
SUMMARY:CHP
DESCRIPTION:
URL:https://dvcvisalia.com/event/chp-29/
END:VEVENT
BEGIN:VEVENT
DTSTART;VALUE=DATE:20240520
DTEND;VALUE=DATE:20240521
DTSTAMP:20260424T195709
CREATED:20240501T223035Z
LAST-MODIFIED:20240501T223035Z
UID:594-1716163200-1716249599@dvcvisalia.com
SUMMARY:Dinuba
DESCRIPTION:
URL:https://dvcvisalia.com/event/dinuba-18/
END:VEVENT
BEGIN:VEVENT
DTSTART;VALUE=DATE:20240515
DTEND;VALUE=DATE:20240519
DTSTAMP:20260424T195709
CREATED:20240501T223005Z
LAST-MODIFIED:20240501T223005Z
UID:592-1715731200-1716076799@dvcvisalia.com
SUMMARY:VPD 5/15-5/18 Range Closed
DESCRIPTION:
URL:https://dvcvisalia.com/event/vpd-5-15-5-18-range-closed/
END:VEVENT
BEGIN:VEVENT
DTSTART;VALUE=DATE:20240513
DTEND;VALUE=DATE:20240514
DTSTAMP:20260424T195709
CREATED:20240501T222908Z
LAST-MODIFIED:20240501T222908Z
UID:590-1715558400-1715644799@dvcvisalia.com
SUMMARY:VPD
DESCRIPTION:
URL:https://dvcvisalia.com/event/vpd-72/
END:VEVENT
BEGIN:VEVENT
DTSTART;VALUE=DATE:20240510
DTEND;VALUE=DATE:20240511
DTSTAMP:20260424T195709
CREATED:20240501T222839Z
LAST-MODIFIED:20240501T222839Z
UID:588-1715299200-1715385599@dvcvisalia.com
SUMMARY:TC Probation
DESCRIPTION:
URL:https://dvcvisalia.com/event/tc-probation-15/
END:VEVENT
BEGIN:VEVENT
DTSTART;VALUE=DATE:20240509
DTEND;VALUE=DATE:20240510
DTSTAMP:20260424T195709
CREATED:20240501T222757Z
LAST-MODIFIED:20240501T222757Z
UID:586-1715212800-1715299199@dvcvisalia.com
SUMMARY:Parole
DESCRIPTION:
URL:https://dvcvisalia.com/event/parole-12/
END:VEVENT
BEGIN:VEVENT
DTSTART;VALUE=DATE:20240508
DTEND;VALUE=DATE:20240509
DTSTAMP:20260424T195709
CREATED:20240501T222733Z
LAST-MODIFIED:20240501T222733Z
UID:584-1715126400-1715212799@dvcvisalia.com
SUMMARY:CHP
DESCRIPTION:
URL:https://dvcvisalia.com/event/chp-28/
END:VEVENT
BEGIN:VEVENT
DTSTART;TZID=America/Los_Angeles:20240504T080000
DTEND;TZID=America/Los_Angeles:20240504T170000
DTSTAMP:20260424T195709
CREATED:20240401T210346Z
LAST-MODIFIED:20240401T210346Z
UID:579-1714809600-1714842000@dvcvisalia.com
SUMMARY:DVC
DESCRIPTION:
URL:https://dvcvisalia.com/event/dvc-17/
END:VEVENT
BEGIN:VEVENT
DTSTART;VALUE=DATE:20240430
DTEND;VALUE=DATE:20240501
DTSTAMP:20260424T195709
CREATED:20240401T210316Z
LAST-MODIFIED:20240401T210316Z
UID:577-1714435200-1714521599@dvcvisalia.com
SUMMARY:Parole
DESCRIPTION:
URL:https://dvcvisalia.com/event/parole-11/
END:VEVENT
BEGIN:VEVENT
DTSTART;VALUE=DATE:20240429
DTEND;VALUE=DATE:20240430
DTSTAMP:20260424T195709
CREATED:20240501T222648Z
LAST-MODIFIED:20240501T222648Z
UID:582-1714348800-1714435199@dvcvisalia.com
SUMMARY:Dinuba
DESCRIPTION:
URL:https://dvcvisalia.com/event/dinuba-17/
END:VEVENT
BEGIN:VEVENT
DTSTART;VALUE=DATE:20240425
DTEND;VALUE=DATE:20240426
DTSTAMP:20260424T195709
CREATED:20240401T210257Z
LAST-MODIFIED:20240401T210257Z
UID:575-1714003200-1714089599@dvcvisalia.com
SUMMARY:CHP
DESCRIPTION:
URL:https://dvcvisalia.com/event/chp-27/
END:VEVENT
BEGIN:VEVENT
DTSTART;VALUE=DATE:20240424
DTEND;VALUE=DATE:20240425
DTSTAMP:20260424T195709
CREATED:20240401T210232Z
LAST-MODIFIED:20240401T210232Z
UID:573-1713916800-1714003199@dvcvisalia.com
SUMMARY:VPD
DESCRIPTION:
URL:https://dvcvisalia.com/event/vpd-71/
END:VEVENT
BEGIN:VEVENT
DTSTART;VALUE=DATE:20240423
DTEND;VALUE=DATE:20240424
DTSTAMP:20260424T195709
CREATED:20240401T210213Z
LAST-MODIFIED:20240401T210213Z
UID:571-1713830400-1713916799@dvcvisalia.com
SUMMARY:TC Probation
DESCRIPTION:
URL:https://dvcvisalia.com/event/tc-probation-14/
END:VEVENT
BEGIN:VEVENT
DTSTART;VALUE=DATE:20240422
DTEND;VALUE=DATE:20240423
DTSTAMP:20260424T195709
CREATED:20240401T210151Z
LAST-MODIFIED:20240401T210151Z
UID:569-1713744000-1713830399@dvcvisalia.com
SUMMARY:Dinuba
DESCRIPTION:
URL:https://dvcvisalia.com/event/dinuba-16/
END:VEVENT
BEGIN:VEVENT
DTSTART;TZID=America/Los_Angeles:20240420T080000
DTEND;TZID=America/Los_Angeles:20240420T170000
DTSTAMP:20260424T195709
CREATED:20240401T210130Z
LAST-MODIFIED:20240401T210130Z
UID:567-1713600000-1713632400@dvcvisalia.com
SUMMARY:Private/Range
DESCRIPTION:
URL:https://dvcvisalia.com/event/private-range/
END:VEVENT
BEGIN:VEVENT
DTSTART;VALUE=DATE:20240415
DTEND;VALUE=DATE:20240418
DTSTAMP:20260424T195709
CREATED:20240401T210052Z
LAST-MODIFIED:20240401T210052Z
UID:565-1713139200-1713398399@dvcvisalia.com
SUMMARY:VPD
DESCRIPTION:
URL:https://dvcvisalia.com/event/vpd-70/
END:VEVENT
BEGIN:VEVENT
DTSTART;VALUE=DATE:20240412
DTEND;VALUE=DATE:20240413
DTSTAMP:20260424T195709
CREATED:20240401T210012Z
LAST-MODIFIED:20240401T210012Z
UID:563-1712880000-1712966399@dvcvisalia.com
SUMMARY:TCDA
DESCRIPTION:
URL:https://dvcvisalia.com/event/tcda-8/
END:VEVENT
BEGIN:VEVENT
DTSTART;VALUE=DATE:20240411
DTEND;VALUE=DATE:20240412
DTSTAMP:20260424T195709
CREATED:20240401T205944Z
LAST-MODIFIED:20240401T205944Z
UID:561-1712793600-1712879999@dvcvisalia.com
SUMMARY:COS (12:00pm)
DESCRIPTION:
URL:https://dvcvisalia.com/event/cos-1200pm-3/
END:VEVENT
BEGIN:VEVENT
DTSTART;VALUE=DATE:20240410
DTEND;VALUE=DATE:20240411
DTSTAMP:20260424T195709
CREATED:20240401T205903Z
LAST-MODIFIED:20240401T205903Z
UID:559-1712707200-1712793599@dvcvisalia.com
SUMMARY:CHP
DESCRIPTION:
URL:https://dvcvisalia.com/event/chp-26/
END:VEVENT
BEGIN:VEVENT
DTSTART;VALUE=DATE:20240408
DTEND;VALUE=DATE:20240410
DTSTAMP:20260424T195709
CREATED:20240401T205832Z
LAST-MODIFIED:20240401T205832Z
UID:557-1712534400-1712707199@dvcvisalia.com
SUMMARY:COS (12:00pm)
DESCRIPTION:
URL:https://dvcvisalia.com/event/cos-1200pm-2/
END:VEVENT
BEGIN:VEVENT
DTSTART;TZID=America/Los_Angeles:20240406T070000
DTEND;TZID=America/Los_Angeles:20240406T170000
DTSTAMP:20260424T195709
CREATED:20240401T205747Z
LAST-MODIFIED:20240401T205747Z
UID:555-1712386800-1712422800@dvcvisalia.com
SUMMARY:DVC
DESCRIPTION:
URL:https://dvcvisalia.com/event/dvc-15/
END:VEVENT
BEGIN:VEVENT
DTSTART;VALUE=DATE:20240401
DTEND;VALUE=DATE:20240406
DTSTAMP:20260424T195709
CREATED:20240401T205703Z
LAST-MODIFIED:20240401T205703Z
UID:553-1711929600-1712361599@dvcvisalia.com
SUMMARY:COS (12:00pm)
DESCRIPTION:
URL:https://dvcvisalia.com/event/cos-1200pm/
END:VEVENT
BEGIN:VEVENT
DTSTART;VALUE=DATE:20240327
DTEND;VALUE=DATE:20240328
DTSTAMP:20260424T195709
CREATED:20240301T222219Z
LAST-MODIFIED:20240301T222219Z
UID:550-1711497600-1711583999@dvcvisalia.com
SUMMARY:CHP
DESCRIPTION:
URL:https://dvcvisalia.com/event/chp-25/
END:VEVENT
BEGIN:VEVENT
DTSTART;VALUE=DATE:20240325
DTEND;VALUE=DATE:20240326
DTSTAMP:20260424T195709
CREATED:20240301T222159Z
LAST-MODIFIED:20240301T222159Z
UID:548-1711324800-1711411199@dvcvisalia.com
SUMMARY:Dinuba
DESCRIPTION:
URL:https://dvcvisalia.com/event/dinuba-15/
END:VEVENT
BEGIN:VEVENT
DTSTART;VALUE=DATE:20240321
DTEND;VALUE=DATE:20240322
DTSTAMP:20260424T195709
CREATED:20240301T222138Z
LAST-MODIFIED:20240301T222138Z
UID:546-1710979200-1711065599@dvcvisalia.com
SUMMARY:TC Probation
DESCRIPTION:
URL:https://dvcvisalia.com/event/tc-probation-13/
END:VEVENT
BEGIN:VEVENT
DTSTART;TZID=America/Los_Angeles:20240318T080000
DTEND;TZID=America/Los_Angeles:20240318T170000
DTSTAMP:20260424T195709
CREATED:20240301T222111Z
LAST-MODIFIED:20240301T222111Z
UID:544-1710748800-1710781200@dvcvisalia.com
SUMMARY:VPD
DESCRIPTION:
URL:https://dvcvisalia.com/event/vpd-69/
END:VEVENT
BEGIN:VEVENT
DTSTART;VALUE=DATE:20240315
DTEND;VALUE=DATE:20240316
DTSTAMP:20260424T195709
CREATED:20240301T222045Z
LAST-MODIFIED:20240301T222045Z
UID:542-1710460800-1710547199@dvcvisalia.com
SUMMARY:TC Probation
DESCRIPTION:
URL:https://dvcvisalia.com/event/tc-probation-12/
END:VEVENT
BEGIN:VEVENT
DTSTART;VALUE=DATE:20240314
DTEND;VALUE=DATE:20240315
DTSTAMP:20260424T195709
CREATED:20240301T222021Z
LAST-MODIFIED:20240301T222021Z
UID:540-1710374400-1710460799@dvcvisalia.com
SUMMARY:VPD
DESCRIPTION:
URL:https://dvcvisalia.com/event/vpd-68/
END:VEVENT
END:VCALENDAR