BEGIN:VCALENDAR
VERSION:2.0
PRODID:-//DVCVisalia - ECPv6.15.17//NONSGML v1.0//EN
CALSCALE:GREGORIAN
METHOD:PUBLISH
X-WR-CALNAME:DVCVisalia
X-ORIGINAL-URL:https://dvcvisalia.com
X-WR-CALDESC:Events for DVCVisalia
REFRESH-INTERVAL;VALUE=DURATION:PT1H
X-Robots-Tag:noindex
X-PUBLISHED-TTL:PT1H
BEGIN:VTIMEZONE
TZID:America/Los_Angeles
BEGIN:DAYLIGHT
TZOFFSETFROM:-0800
TZOFFSETTO:-0700
TZNAME:PDT
DTSTART:20230312T100000
END:DAYLIGHT
BEGIN:STANDARD
TZOFFSETFROM:-0700
TZOFFSETTO:-0800
TZNAME:PST
DTSTART:20231105T090000
END:STANDARD
BEGIN:DAYLIGHT
TZOFFSETFROM:-0800
TZOFFSETTO:-0700
TZNAME:PDT
DTSTART:20240310T100000
END:DAYLIGHT
BEGIN:STANDARD
TZOFFSETFROM:-0700
TZOFFSETTO:-0800
TZNAME:PST
DTSTART:20241103T090000
END:STANDARD
BEGIN:DAYLIGHT
TZOFFSETFROM:-0800
TZOFFSETTO:-0700
TZNAME:PDT
DTSTART:20250309T100000
END:DAYLIGHT
BEGIN:STANDARD
TZOFFSETFROM:-0700
TZOFFSETTO:-0800
TZNAME:PST
DTSTART:20251102T090000
END:STANDARD
END:VTIMEZONE
BEGIN:VEVENT
DTSTART;VALUE=DATE:20240720
DTEND;VALUE=DATE:20240721
DTSTAMP:20260424T161348
CREATED:20240702T234123Z
LAST-MODIFIED:20240702T234123Z
UID:652-1721433600-1721519999@dvcvisalia.com
SUMMARY:Private Event\, Range Closed
DESCRIPTION:
URL:https://dvcvisalia.com/event/private-event-range-closed/
END:VEVENT
BEGIN:VEVENT
DTSTART;VALUE=DATE:20240719
DTEND;VALUE=DATE:20240720
DTSTAMP:20260424T161348
CREATED:20240702T234039Z
LAST-MODIFIED:20240702T234039Z
UID:650-1721347200-1721433599@dvcvisalia.com
SUMMARY:T.C. Probation
DESCRIPTION:
URL:https://dvcvisalia.com/event/t-c-probation/
END:VEVENT
BEGIN:VEVENT
DTSTART;TZID=America/Los_Angeles:20240716T070000
DTEND;TZID=America/Los_Angeles:20240716T130000
DTSTAMP:20260424T161348
CREATED:20240702T233950Z
LAST-MODIFIED:20240702T233950Z
UID:648-1721113200-1721134800@dvcvisalia.com
SUMMARY:Federal Probation
DESCRIPTION:
URL:https://dvcvisalia.com/event/federal-probation-5/
END:VEVENT
BEGIN:VEVENT
DTSTART;VALUE=DATE:20240715
DTEND;VALUE=DATE:20240716
DTSTAMP:20260424T161348
CREATED:20240702T233853Z
LAST-MODIFIED:20240702T233853Z
UID:646-1721001600-1721087999@dvcvisalia.com
SUMMARY:VPD
DESCRIPTION:
URL:https://dvcvisalia.com/event/vpd-79/
END:VEVENT
BEGIN:VEVENT
DTSTART;VALUE=DATE:20240711
DTEND;VALUE=DATE:20240712
DTSTAMP:20260424T161348
CREATED:20240702T234415Z
LAST-MODIFIED:20240702T234415Z
UID:660-1720656000-1720742399@dvcvisalia.com
SUMMARY:VPD
DESCRIPTION:
URL:https://dvcvisalia.com/event/vpd-81/
END:VEVENT
BEGIN:VEVENT
DTSTART;VALUE=DATE:20240710
DTEND;VALUE=DATE:20240711
DTSTAMP:20260424T161348
CREATED:20240702T233823Z
LAST-MODIFIED:20240702T233823Z
UID:644-1720569600-1720655999@dvcvisalia.com
SUMMARY:CHP
DESCRIPTION:
URL:https://dvcvisalia.com/event/chp-33/
END:VEVENT
BEGIN:VEVENT
DTSTART;VALUE=DATE:20240706
DTEND;VALUE=DATE:20240707
DTSTAMP:20260424T161348
CREATED:20240702T234552Z
LAST-MODIFIED:20240702T234552Z
UID:663-1720224000-1720310399@dvcvisalia.com
SUMMARY:DVC
DESCRIPTION:
URL:https://dvcvisalia.com/event/dvc-19/
END:VEVENT
BEGIN:VEVENT
DTSTART;VALUE=DATE:20240626
DTEND;VALUE=DATE:20240627
DTSTAMP:20260424T161348
CREATED:20240531T041536Z
LAST-MODIFIED:20240531T041536Z
UID:637-1719360000-1719446399@dvcvisalia.com
SUMMARY:VPD
DESCRIPTION:
URL:https://dvcvisalia.com/event/vpd-78/
END:VEVENT
BEGIN:VEVENT
DTSTART;VALUE=DATE:20240624
DTEND;VALUE=DATE:20240625
DTSTAMP:20260424T161348
CREATED:20240531T041513Z
LAST-MODIFIED:20240531T041513Z
UID:635-1719187200-1719273599@dvcvisalia.com
SUMMARY:VPD
DESCRIPTION:
URL:https://dvcvisalia.com/event/vpd-77/
END:VEVENT
BEGIN:VEVENT
DTSTART;VALUE=DATE:20240620
DTEND;VALUE=DATE:20240621
DTSTAMP:20260424T161348
CREATED:20240531T041452Z
LAST-MODIFIED:20240531T041452Z
UID:633-1718841600-1718927999@dvcvisalia.com
SUMMARY:TC Probation
DESCRIPTION:
URL:https://dvcvisalia.com/event/tc-probation-16/
END:VEVENT
BEGIN:VEVENT
DTSTART;VALUE=DATE:20240619
DTEND;VALUE=DATE:20240620
DTSTAMP:20260424T161348
CREATED:20240531T041422Z
LAST-MODIFIED:20240531T041422Z
UID:631-1718755200-1718841599@dvcvisalia.com
SUMMARY:CHP
DESCRIPTION:
URL:https://dvcvisalia.com/event/chp-31/
END:VEVENT
BEGIN:VEVENT
DTSTART;VALUE=DATE:20240617
DTEND;VALUE=DATE:20240618
DTSTAMP:20260424T161348
CREATED:20240531T041141Z
LAST-MODIFIED:20240531T041141Z
UID:627-1718582400-1718668799@dvcvisalia.com
SUMMARY:VPD
DESCRIPTION:
URL:https://dvcvisalia.com/event/vpd-76/
END:VEVENT
BEGIN:VEVENT
DTSTART;VALUE=DATE:20240615
DTEND;VALUE=DATE:20240616
DTSTAMP:20260424T161348
CREATED:20240531T041116Z
LAST-MODIFIED:20240531T041116Z
UID:625-1718409600-1718495999@dvcvisalia.com
SUMMARY:PRIVATE
DESCRIPTION:
URL:https://dvcvisalia.com/event/private-4/
END:VEVENT
BEGIN:VEVENT
DTSTART;VALUE=DATE:20240614
DTEND;VALUE=DATE:20240615
DTSTAMP:20260424T161348
CREATED:20240531T041045Z
LAST-MODIFIED:20240531T041045Z
UID:623-1718323200-1718409599@dvcvisalia.com
SUMMARY:Dinuba
DESCRIPTION:
URL:https://dvcvisalia.com/event/dinuba-19/
END:VEVENT
BEGIN:VEVENT
DTSTART;VALUE=DATE:20240613
DTEND;VALUE=DATE:20240614
DTSTAMP:20260424T161348
CREATED:20240531T041016Z
LAST-MODIFIED:20240531T041016Z
UID:621-1718236800-1718323199@dvcvisalia.com
SUMMARY:VPD
DESCRIPTION:
URL:https://dvcvisalia.com/event/vpd-75/
END:VEVENT
BEGIN:VEVENT
DTSTART;VALUE=DATE:20240612
DTEND;VALUE=DATE:20240613
DTSTAMP:20260424T161348
CREATED:20240531T041219Z
LAST-MODIFIED:20240531T041219Z
UID:629-1718150400-1718236799@dvcvisalia.com
SUMMARY:CHP
DESCRIPTION:
URL:https://dvcvisalia.com/event/chp-32/
END:VEVENT
BEGIN:VEVENT
DTSTART;VALUE=DATE:20240610
DTEND;VALUE=DATE:20240612
DTSTAMP:20260424T161348
CREATED:20240531T040931Z
LAST-MODIFIED:20240531T040931Z
UID:617-1717977600-1718150399@dvcvisalia.com
SUMMARY:VPD
DESCRIPTION:
URL:https://dvcvisalia.com/event/vpd-74/
END:VEVENT
BEGIN:VEVENT
DTSTART;VALUE=DATE:20240607
DTEND;VALUE=DATE:20240608
DTSTAMP:20260424T161348
CREATED:20240531T040904Z
LAST-MODIFIED:20240531T040904Z
UID:615-1717718400-1717804799@dvcvisalia.com
SUMMARY:Probation
DESCRIPTION:
URL:https://dvcvisalia.com/event/probation/
END:VEVENT
BEGIN:VEVENT
DTSTART;TZID=America/Los_Angeles:20240606T080000
DTEND;TZID=America/Los_Angeles:20240606T170000
DTSTAMP:20260424T161348
CREATED:20240531T040832Z
LAST-MODIFIED:20240531T040832Z
UID:613-1717660800-1717693200@dvcvisalia.com
SUMMARY:TCDA
DESCRIPTION:
URL:https://dvcvisalia.com/event/tcda-9/
END:VEVENT
BEGIN:VEVENT
DTSTART;VALUE=DATE:20240605
DTEND;VALUE=DATE:20240606
DTSTAMP:20260424T161348
CREATED:20240531T040757Z
LAST-MODIFIED:20240531T040757Z
UID:611-1717545600-1717631999@dvcvisalia.com
SUMMARY:CHP
DESCRIPTION:
URL:https://dvcvisalia.com/event/chp-30/
END:VEVENT
BEGIN:VEVENT
DTSTART;TZID=America/Los_Angeles:20240604T120000
DTEND;TZID=America/Los_Angeles:20240604T170000
DTSTAMP:20260424T161348
CREATED:20240531T040730Z
LAST-MODIFIED:20240531T040730Z
UID:609-1717502400-1717520400@dvcvisalia.com
SUMMARY:COS
DESCRIPTION:
URL:https://dvcvisalia.com/event/cos-22/
END:VEVENT
BEGIN:VEVENT
DTSTART;VALUE=DATE:20240603
DTEND;VALUE=DATE:20240604
DTSTAMP:20260424T161348
CREATED:20240531T040637Z
LAST-MODIFIED:20240531T040637Z
UID:607-1717372800-1717459199@dvcvisalia.com
SUMMARY:VPD
DESCRIPTION:
URL:https://dvcvisalia.com/event/vpd-73/
END:VEVENT
BEGIN:VEVENT
DTSTART;TZID=America/Los_Angeles:20240601T080000
DTEND;TZID=America/Los_Angeles:20240601T170000
DTSTAMP:20260424T161348
CREATED:20240501T223700Z
LAST-MODIFIED:20240501T223700Z
UID:604-1717228800-1717261200@dvcvisalia.com
SUMMARY:DVC
DESCRIPTION:
URL:https://dvcvisalia.com/event/dvc-18/
END:VEVENT
BEGIN:VEVENT
DTSTART;VALUE=DATE:20240529
DTEND;VALUE=DATE:20240601
DTSTAMP:20260424T161348
CREATED:20240501T223551Z
LAST-MODIFIED:20240501T223551Z
UID:602-1716940800-1717199999@dvcvisalia.com
SUMMARY:(12:00PM) COS
DESCRIPTION:
URL:https://dvcvisalia.com/event/1200pm-cos/
END:VEVENT
BEGIN:VEVENT
DTSTART;TZID=America/Los_Angeles:20240525T080000
DTEND;TZID=America/Los_Angeles:20240525T170000
DTSTAMP:20260424T161348
CREATED:20240501T223235Z
LAST-MODIFIED:20240501T223235Z
UID:600-1716624000-1716656400@dvcvisalia.com
SUMMARY:Private Range Closed
DESCRIPTION:
URL:https://dvcvisalia.com/event/private-range-closed/
END:VEVENT
BEGIN:VEVENT
DTSTART;VALUE=DATE:20240523
DTEND;VALUE=DATE:20240524
DTSTAMP:20260424T161348
CREATED:20240501T223142Z
LAST-MODIFIED:20240501T223142Z
UID:598-1716422400-1716508799@dvcvisalia.com
SUMMARY:Federal Probation
DESCRIPTION:
URL:https://dvcvisalia.com/event/federal-probation-4/
END:VEVENT
BEGIN:VEVENT
DTSTART;VALUE=DATE:20240522
DTEND;VALUE=DATE:20240523
DTSTAMP:20260424T161348
CREATED:20240501T223104Z
LAST-MODIFIED:20240501T223104Z
UID:596-1716336000-1716422399@dvcvisalia.com
SUMMARY:CHP
DESCRIPTION:
URL:https://dvcvisalia.com/event/chp-29/
END:VEVENT
BEGIN:VEVENT
DTSTART;VALUE=DATE:20240520
DTEND;VALUE=DATE:20240521
DTSTAMP:20260424T161348
CREATED:20240501T223035Z
LAST-MODIFIED:20240501T223035Z
UID:594-1716163200-1716249599@dvcvisalia.com
SUMMARY:Dinuba
DESCRIPTION:
URL:https://dvcvisalia.com/event/dinuba-18/
END:VEVENT
BEGIN:VEVENT
DTSTART;VALUE=DATE:20240515
DTEND;VALUE=DATE:20240519
DTSTAMP:20260424T161348
CREATED:20240501T223005Z
LAST-MODIFIED:20240501T223005Z
UID:592-1715731200-1716076799@dvcvisalia.com
SUMMARY:VPD 5/15-5/18 Range Closed
DESCRIPTION:
URL:https://dvcvisalia.com/event/vpd-5-15-5-18-range-closed/
END:VEVENT
BEGIN:VEVENT
DTSTART;VALUE=DATE:20240513
DTEND;VALUE=DATE:20240514
DTSTAMP:20260424T161348
CREATED:20240501T222908Z
LAST-MODIFIED:20240501T222908Z
UID:590-1715558400-1715644799@dvcvisalia.com
SUMMARY:VPD
DESCRIPTION:
URL:https://dvcvisalia.com/event/vpd-72/
END:VEVENT
END:VCALENDAR