BEGIN:VCALENDAR
VERSION:2.0
PRODID:-//DVCVisalia - ECPv6.15.17//NONSGML v1.0//EN
CALSCALE:GREGORIAN
METHOD:PUBLISH
X-ORIGINAL-URL:https://dvcvisalia.com
X-WR-CALDESC:Events for DVCVisalia
REFRESH-INTERVAL;VALUE=DURATION:PT1H
X-Robots-Tag:noindex
X-PUBLISHED-TTL:PT1H
BEGIN:VTIMEZONE
TZID:America/Los_Angeles
BEGIN:DAYLIGHT
TZOFFSETFROM:-0800
TZOFFSETTO:-0700
TZNAME:PDT
DTSTART:20230312T100000
END:DAYLIGHT
BEGIN:STANDARD
TZOFFSETFROM:-0700
TZOFFSETTO:-0800
TZNAME:PST
DTSTART:20231105T090000
END:STANDARD
BEGIN:DAYLIGHT
TZOFFSETFROM:-0800
TZOFFSETTO:-0700
TZNAME:PDT
DTSTART:20240310T100000
END:DAYLIGHT
BEGIN:STANDARD
TZOFFSETFROM:-0700
TZOFFSETTO:-0800
TZNAME:PST
DTSTART:20241103T090000
END:STANDARD
BEGIN:DAYLIGHT
TZOFFSETFROM:-0800
TZOFFSETTO:-0700
TZNAME:PDT
DTSTART:20250309T100000
END:DAYLIGHT
BEGIN:STANDARD
TZOFFSETFROM:-0700
TZOFFSETTO:-0800
TZNAME:PST
DTSTART:20251102T090000
END:STANDARD
END:VTIMEZONE
BEGIN:VEVENT
DTSTART;TZID=America/Los_Angeles:20240909T120000
DTEND;TZID=America/Los_Angeles:20240909T220000
DTSTAMP:20260424T131034
CREATED:20240831T231725Z
LAST-MODIFIED:20240831T231725Z
UID:714-1725883200-1725919200@dvcvisalia.com
SUMMARY:COS
DESCRIPTION:
URL:https://dvcvisalia.com/event/cos-28/
END:VEVENT
BEGIN:VEVENT
DTSTART;VALUE=DATE:20240908
DTEND;VALUE=DATE:20240909
DTSTAMP:20260424T131034
CREATED:20240831T231622Z
LAST-MODIFIED:20240831T231622Z
UID:712-1725753600-1725839999@dvcvisalia.com
SUMMARY:Dinuba/Main Range
DESCRIPTION:
URL:https://dvcvisalia.com/event/dinuba-main-range/
END:VEVENT
BEGIN:VEVENT
DTSTART;VALUE=DATE:20240907
DTEND;VALUE=DATE:20240908
DTSTAMP:20260424T131034
CREATED:20240831T231256Z
LAST-MODIFIED:20240831T231256Z
UID:706-1725667200-1725753599@dvcvisalia.com
SUMMARY:DVC
DESCRIPTION:
URL:https://dvcvisalia.com/event/dvc-21/
END:VEVENT
BEGIN:VEVENT
DTSTART;TZID=America/Los_Angeles:20240906T120000
DTEND;TZID=America/Los_Angeles:20240906T220000
DTSTAMP:20260424T131034
CREATED:20240831T231056Z
LAST-MODIFIED:20240831T231230Z
UID:704-1725624000-1725660000@dvcvisalia.com
SUMMARY:COS
DESCRIPTION:
URL:https://dvcvisalia.com/event/cos-25/
END:VEVENT
BEGIN:VEVENT
DTSTART;TZID=America/Los_Angeles:20240905T120000
DTEND;TZID=America/Los_Angeles:20240905T220000
DTSTAMP:20260424T131034
CREATED:20240831T231509Z
LAST-MODIFIED:20240831T231509Z
UID:710-1725537600-1725573600@dvcvisalia.com
SUMMARY:COS
DESCRIPTION:
URL:https://dvcvisalia.com/event/cos-27/
END:VEVENT
BEGIN:VEVENT
DTSTART;TZID=America/Los_Angeles:20240904T120000
DTEND;TZID=America/Los_Angeles:20240904T220000
DTSTAMP:20260424T131034
CREATED:20240831T231423Z
LAST-MODIFIED:20240831T231423Z
UID:708-1725451200-1725487200@dvcvisalia.com
SUMMARY:COS
DESCRIPTION:
URL:https://dvcvisalia.com/event/cos-26/
END:VEVENT
BEGIN:VEVENT
DTSTART;VALUE=DATE:20240903
DTEND;VALUE=DATE:20240904
DTSTAMP:20260424T131034
CREATED:20240831T231003Z
LAST-MODIFIED:20240831T231003Z
UID:702-1725321600-1725407999@dvcvisalia.com
SUMMARY:COS
DESCRIPTION:
URL:https://dvcvisalia.com/event/cos-24/
END:VEVENT
BEGIN:VEVENT
DTSTART;VALUE=DATE:20240829
DTEND;VALUE=DATE:20240831
DTSTAMP:20260424T131034
CREATED:20240802T200625Z
LAST-MODIFIED:20240802T200625Z
UID:694-1724889600-1725062399@dvcvisalia.com
SUMMARY:COS
DESCRIPTION:
URL:https://dvcvisalia.com/event/cos-23/
END:VEVENT
BEGIN:VEVENT
DTSTART;VALUE=DATE:20240828
DTEND;VALUE=DATE:20240829
DTSTAMP:20260424T131034
CREATED:20240802T200510Z
LAST-MODIFIED:20240802T200510Z
UID:692-1724803200-1724889599@dvcvisalia.com
SUMMARY:VPD
DESCRIPTION:
URL:https://dvcvisalia.com/event/vpd-87/
END:VEVENT
BEGIN:VEVENT
DTSTART;VALUE=DATE:20240821
DTEND;VALUE=DATE:20240825
DTSTAMP:20260424T131034
CREATED:20240802T200452Z
LAST-MODIFIED:20240802T200452Z
UID:690-1724198400-1724543999@dvcvisalia.com
SUMMARY:VPD
DESCRIPTION:
URL:https://dvcvisalia.com/event/vpd-86/
END:VEVENT
BEGIN:VEVENT
DTSTART;VALUE=DATE:20240820
DTEND;VALUE=DATE:20240821
DTSTAMP:20260424T131034
CREATED:20240802T200427Z
LAST-MODIFIED:20240802T200427Z
UID:688-1724112000-1724198399@dvcvisalia.com
SUMMARY:Parole
DESCRIPTION:
URL:https://dvcvisalia.com/event/parole-13/
END:VEVENT
BEGIN:VEVENT
DTSTART;VALUE=DATE:20240819
DTEND;VALUE=DATE:20240820
DTSTAMP:20260424T131034
CREATED:20240802T200400Z
LAST-MODIFIED:20240802T200400Z
UID:686-1724025600-1724111999@dvcvisalia.com
SUMMARY:VPD
DESCRIPTION:
URL:https://dvcvisalia.com/event/vpd-85/
END:VEVENT
BEGIN:VEVENT
DTSTART;VALUE=DATE:20240817
DTEND;VALUE=DATE:20240818
DTSTAMP:20260424T131034
CREATED:20240802T200342Z
LAST-MODIFIED:20240802T200342Z
UID:684-1723852800-1723939199@dvcvisalia.com
SUMMARY:Private Range Closed
DESCRIPTION:
URL:https://dvcvisalia.com/event/private-range-closed-2/
END:VEVENT
BEGIN:VEVENT
DTSTART;VALUE=DATE:20240816
DTEND;VALUE=DATE:20240817
DTSTAMP:20260424T131034
CREATED:20240802T200316Z
LAST-MODIFIED:20240802T200316Z
UID:682-1723766400-1723852799@dvcvisalia.com
SUMMARY:TC Probation
DESCRIPTION:
URL:https://dvcvisalia.com/event/tc-probation-17/
END:VEVENT
BEGIN:VEVENT
DTSTART;VALUE=DATE:20240815
DTEND;VALUE=DATE:20240816
DTSTAMP:20260424T131034
CREATED:20240802T200251Z
LAST-MODIFIED:20240802T200251Z
UID:680-1723680000-1723766399@dvcvisalia.com
SUMMARY:VPD Bomb
DESCRIPTION:
URL:https://dvcvisalia.com/event/vpd-bomb-2/
END:VEVENT
BEGIN:VEVENT
DTSTART;VALUE=DATE:20240814
DTEND;VALUE=DATE:20240815
DTSTAMP:20260424T131034
CREATED:20240802T200225Z
LAST-MODIFIED:20240802T200225Z
UID:678-1723593600-1723679999@dvcvisalia.com
SUMMARY:CHP
DESCRIPTION:
URL:https://dvcvisalia.com/event/chp-36/
END:VEVENT
BEGIN:VEVENT
DTSTART;VALUE=DATE:20240808
DTEND;VALUE=DATE:20240809
DTSTAMP:20260424T131034
CREATED:20240802T200206Z
LAST-MODIFIED:20240802T200206Z
UID:676-1723075200-1723161599@dvcvisalia.com
SUMMARY:TC DA
DESCRIPTION:
URL:https://dvcvisalia.com/event/tc-da-3/
END:VEVENT
BEGIN:VEVENT
DTSTART;VALUE=DATE:20240807
DTEND;VALUE=DATE:20240808
DTSTAMP:20260424T131034
CREATED:20240802T200124Z
LAST-MODIFIED:20240802T200124Z
UID:674-1722988800-1723075199@dvcvisalia.com
SUMMARY:CHP
DESCRIPTION:
URL:https://dvcvisalia.com/event/chp-35/
END:VEVENT
BEGIN:VEVENT
DTSTART;VALUE=DATE:20240804
DTEND;VALUE=DATE:20240805
DTSTAMP:20260424T131034
CREATED:20240802T200106Z
LAST-MODIFIED:20240802T200106Z
UID:672-1722729600-1722815999@dvcvisalia.com
SUMMARY:VPD
DESCRIPTION:
URL:https://dvcvisalia.com/event/vpd-84/
END:VEVENT
BEGIN:VEVENT
DTSTART;TZID=America/Los_Angeles:20240803T130000
DTEND;TZID=America/Los_Angeles:20240803T170000
DTSTAMP:20260424T131034
CREATED:20240802T200042Z
LAST-MODIFIED:20240802T200042Z
UID:670-1722690000-1722704400@dvcvisalia.com
SUMMARY:VPD
DESCRIPTION:
URL:https://dvcvisalia.com/event/vpd-83/
END:VEVENT
BEGIN:VEVENT
DTSTART;TZID=America/Los_Angeles:20240803T070000
DTEND;TZID=America/Los_Angeles:20240803T130000
DTSTAMP:20260424T131034
CREATED:20240802T200011Z
LAST-MODIFIED:20240802T200011Z
UID:668-1722668400-1722690000@dvcvisalia.com
SUMMARY:DVC
DESCRIPTION:
URL:https://dvcvisalia.com/event/dvc-20/
END:VEVENT
BEGIN:VEVENT
DTSTART;VALUE=DATE:20240802
DTEND;VALUE=DATE:20240803
DTSTAMP:20260424T131034
CREATED:20240802T195930Z
LAST-MODIFIED:20240802T195930Z
UID:666-1722556800-1722643199@dvcvisalia.com
SUMMARY:VPD
DESCRIPTION:
URL:https://dvcvisalia.com/event/vpd-82/
END:VEVENT
BEGIN:VEVENT
DTSTART;VALUE=DATE:20240731
DTEND;VALUE=DATE:20240801
DTSTAMP:20260424T131034
CREATED:20240702T234225Z
LAST-MODIFIED:20240702T234225Z
UID:656-1722384000-1722470399@dvcvisalia.com
SUMMARY:CHP
DESCRIPTION:
URL:https://dvcvisalia.com/event/chp-34/
END:VEVENT
BEGIN:VEVENT
DTSTART;VALUE=DATE:20240722
DTEND;VALUE=DATE:20240725
DTSTAMP:20260424T131034
CREATED:20240702T234201Z
LAST-MODIFIED:20240702T234201Z
UID:654-1721606400-1721865599@dvcvisalia.com
SUMMARY:VPD
DESCRIPTION:
URL:https://dvcvisalia.com/event/vpd-80/
END:VEVENT
BEGIN:VEVENT
DTSTART;VALUE=DATE:20240720
DTEND;VALUE=DATE:20240721
DTSTAMP:20260424T131034
CREATED:20240702T234123Z
LAST-MODIFIED:20240702T234123Z
UID:652-1721433600-1721519999@dvcvisalia.com
SUMMARY:Private Event\, Range Closed
DESCRIPTION:
URL:https://dvcvisalia.com/event/private-event-range-closed/
END:VEVENT
BEGIN:VEVENT
DTSTART;VALUE=DATE:20240719
DTEND;VALUE=DATE:20240720
DTSTAMP:20260424T131034
CREATED:20240702T234039Z
LAST-MODIFIED:20240702T234039Z
UID:650-1721347200-1721433599@dvcvisalia.com
SUMMARY:T.C. Probation
DESCRIPTION:
URL:https://dvcvisalia.com/event/t-c-probation/
END:VEVENT
BEGIN:VEVENT
DTSTART;TZID=America/Los_Angeles:20240716T070000
DTEND;TZID=America/Los_Angeles:20240716T130000
DTSTAMP:20260424T131034
CREATED:20240702T233950Z
LAST-MODIFIED:20240702T233950Z
UID:648-1721113200-1721134800@dvcvisalia.com
SUMMARY:Federal Probation
DESCRIPTION:
URL:https://dvcvisalia.com/event/federal-probation-5/
END:VEVENT
BEGIN:VEVENT
DTSTART;VALUE=DATE:20240715
DTEND;VALUE=DATE:20240716
DTSTAMP:20260424T131034
CREATED:20240702T233853Z
LAST-MODIFIED:20240702T233853Z
UID:646-1721001600-1721087999@dvcvisalia.com
SUMMARY:VPD
DESCRIPTION:
URL:https://dvcvisalia.com/event/vpd-79/
END:VEVENT
BEGIN:VEVENT
DTSTART;VALUE=DATE:20240711
DTEND;VALUE=DATE:20240712
DTSTAMP:20260424T131034
CREATED:20240702T234415Z
LAST-MODIFIED:20240702T234415Z
UID:660-1720656000-1720742399@dvcvisalia.com
SUMMARY:VPD
DESCRIPTION:
URL:https://dvcvisalia.com/event/vpd-81/
END:VEVENT
BEGIN:VEVENT
DTSTART;VALUE=DATE:20240710
DTEND;VALUE=DATE:20240711
DTSTAMP:20260424T131034
CREATED:20240702T233823Z
LAST-MODIFIED:20240702T233823Z
UID:644-1720569600-1720655999@dvcvisalia.com
SUMMARY:CHP
DESCRIPTION:
URL:https://dvcvisalia.com/event/chp-33/
END:VEVENT
END:VCALENDAR