BEGIN:VCALENDAR
VERSION:2.0
PRODID:-//DVCVisalia - ECPv6.15.17//NONSGML v1.0//EN
CALSCALE:GREGORIAN
METHOD:PUBLISH
X-WR-CALNAME:DVCVisalia
X-ORIGINAL-URL:https://dvcvisalia.com
X-WR-CALDESC:Events for DVCVisalia
REFRESH-INTERVAL;VALUE=DURATION:PT1H
X-Robots-Tag:noindex
X-PUBLISHED-TTL:PT1H
BEGIN:VTIMEZONE
TZID:America/Los_Angeles
BEGIN:DAYLIGHT
TZOFFSETFROM:-0800
TZOFFSETTO:-0700
TZNAME:PDT
DTSTART:20230312T100000
END:DAYLIGHT
BEGIN:STANDARD
TZOFFSETFROM:-0700
TZOFFSETTO:-0800
TZNAME:PST
DTSTART:20231105T090000
END:STANDARD
BEGIN:DAYLIGHT
TZOFFSETFROM:-0800
TZOFFSETTO:-0700
TZNAME:PDT
DTSTART:20240310T100000
END:DAYLIGHT
BEGIN:STANDARD
TZOFFSETFROM:-0700
TZOFFSETTO:-0800
TZNAME:PST
DTSTART:20241103T090000
END:STANDARD
BEGIN:DAYLIGHT
TZOFFSETFROM:-0800
TZOFFSETTO:-0700
TZNAME:PDT
DTSTART:20250309T100000
END:DAYLIGHT
BEGIN:STANDARD
TZOFFSETFROM:-0700
TZOFFSETTO:-0800
TZNAME:PST
DTSTART:20251102T090000
END:STANDARD
END:VTIMEZONE
BEGIN:VEVENT
DTSTART;VALUE=DATE:20241018
DTEND;VALUE=DATE:20241019
DTSTAMP:20260424T102305
CREATED:20240928T231441Z
LAST-MODIFIED:20240928T231441Z
UID:763-1729209600-1729295999@dvcvisalia.com
SUMMARY:TC Probation
DESCRIPTION:
URL:https://dvcvisalia.com/event/tc-probation-20/
END:VEVENT
BEGIN:VEVENT
DTSTART;VALUE=DATE:20241017
DTEND;VALUE=DATE:20241018
DTSTAMP:20260424T102305
CREATED:20240928T231403Z
LAST-MODIFIED:20240928T231403Z
UID:761-1729123200-1729209599@dvcvisalia.com
SUMMARY:VPD
DESCRIPTION:
URL:https://dvcvisalia.com/event/vpd-91/
END:VEVENT
BEGIN:VEVENT
DTSTART;VALUE=DATE:20241016
DTEND;VALUE=DATE:20241017
DTSTAMP:20260424T102305
CREATED:20240928T231328Z
LAST-MODIFIED:20240928T231328Z
UID:759-1729036800-1729123199@dvcvisalia.com
SUMMARY:CHP
DESCRIPTION:
URL:https://dvcvisalia.com/event/chp-41/
END:VEVENT
BEGIN:VEVENT
DTSTART;VALUE=DATE:20241014
DTEND;VALUE=DATE:20241015
DTSTAMP:20260424T102305
CREATED:20240928T231301Z
LAST-MODIFIED:20240928T231301Z
UID:757-1728864000-1728950399@dvcvisalia.com
SUMMARY:VPD
DESCRIPTION:
URL:https://dvcvisalia.com/event/vpd-90/
END:VEVENT
BEGIN:VEVENT
DTSTART;VALUE=DATE:20241010
DTEND;VALUE=DATE:20241011
DTSTAMP:20260424T102305
CREATED:20240928T231226Z
LAST-MODIFIED:20240928T231226Z
UID:755-1728518400-1728604799@dvcvisalia.com
SUMMARY:TCDA
DESCRIPTION:
URL:https://dvcvisalia.com/event/tcda-10/
END:VEVENT
BEGIN:VEVENT
DTSTART;VALUE=DATE:20241009
DTEND;VALUE=DATE:20241010
DTSTAMP:20260424T102305
CREATED:20240928T231151Z
LAST-MODIFIED:20240928T231151Z
UID:753-1728432000-1728518399@dvcvisalia.com
SUMMARY:CHP
DESCRIPTION:
URL:https://dvcvisalia.com/event/chp-40/
END:VEVENT
BEGIN:VEVENT
DTSTART;TZID=America/Los_Angeles:20241007T120000
DTEND;TZID=America/Los_Angeles:20241007T220000
DTSTAMP:20260424T102305
CREATED:20240928T231117Z
LAST-MODIFIED:20240928T231117Z
UID:751-1728302400-1728338400@dvcvisalia.com
SUMMARY:COS
DESCRIPTION:
URL:https://dvcvisalia.com/event/cos-32/
END:VEVENT
BEGIN:VEVENT
DTSTART;VALUE=DATE:20241005
DTEND;VALUE=DATE:20241006
DTSTAMP:20260424T102305
CREATED:20240928T231008Z
LAST-MODIFIED:20240928T231008Z
UID:749-1728086400-1728172799@dvcvisalia.com
SUMMARY:DVC
DESCRIPTION:
URL:https://dvcvisalia.com/event/dvc-22/
END:VEVENT
BEGIN:VEVENT
DTSTART;VALUE=DATE:20240930
DTEND;VALUE=DATE:20241005
DTSTAMP:20260424T102305
CREATED:20240831T232846Z
LAST-MODIFIED:20240831T232846Z
UID:746-1727654400-1728086399@dvcvisalia.com
SUMMARY:VPD/Range Closed
DESCRIPTION:
URL:https://dvcvisalia.com/event/vpd-range-closed/
END:VEVENT
BEGIN:VEVENT
DTSTART;VALUE=DATE:20240929
DTEND;VALUE=DATE:20240930
DTSTAMP:20260424T102305
CREATED:20240831T232757Z
LAST-MODIFIED:20240831T232757Z
UID:744-1727568000-1727654399@dvcvisalia.com
SUMMARY:VPD/Classroom only
DESCRIPTION:
URL:https://dvcvisalia.com/event/vpd-classroom-only/
END:VEVENT
BEGIN:VEVENT
DTSTART;VALUE=DATE:20240927
DTEND;VALUE=DATE:20240928
DTSTAMP:20260424T102305
CREATED:20240831T232715Z
LAST-MODIFIED:20240831T232715Z
UID:742-1727395200-1727481599@dvcvisalia.com
SUMMARY:TC Probation
DESCRIPTION:
URL:https://dvcvisalia.com/event/tc-probation-19/
END:VEVENT
BEGIN:VEVENT
DTSTART;VALUE=DATE:20240926
DTEND;VALUE=DATE:20240927
DTSTAMP:20260424T102305
CREATED:20240831T232638Z
LAST-MODIFIED:20240831T232638Z
UID:740-1727308800-1727395199@dvcvisalia.com
SUMMARY:VPD
DESCRIPTION:
URL:https://dvcvisalia.com/event/vpd-89/
END:VEVENT
BEGIN:VEVENT
DTSTART;VALUE=DATE:20240925
DTEND;VALUE=DATE:20240926
DTSTAMP:20260424T102305
CREATED:20240831T232556Z
LAST-MODIFIED:20240831T232556Z
UID:738-1727222400-1727308799@dvcvisalia.com
SUMMARY:CHP
DESCRIPTION:
URL:https://dvcvisalia.com/event/chp-39/
END:VEVENT
BEGIN:VEVENT
DTSTART;TZID=America/Los_Angeles:20240924T120000
DTEND;TZID=America/Los_Angeles:20240924T220000
DTSTAMP:20260424T102305
CREATED:20240831T232525Z
LAST-MODIFIED:20240831T232525Z
UID:736-1727179200-1727215200@dvcvisalia.com
SUMMARY:COS
DESCRIPTION:
URL:https://dvcvisalia.com/event/cos-31/
END:VEVENT
BEGIN:VEVENT
DTSTART;TZID=America/Los_Angeles:20240923T120000
DTEND;TZID=America/Los_Angeles:20240923T220000
DTSTAMP:20260424T102305
CREATED:20240831T232445Z
LAST-MODIFIED:20240831T232445Z
UID:734-1727092800-1727128800@dvcvisalia.com
SUMMARY:COS
DESCRIPTION:
URL:https://dvcvisalia.com/event/cos-30/
END:VEVENT
BEGIN:VEVENT
DTSTART;TZID=America/Los_Angeles:20240921T100000
DTEND;TZID=America/Los_Angeles:20240921T110000
DTSTAMP:20260424T102305
CREATED:20240831T232359Z
LAST-MODIFIED:20240831T232359Z
UID:732-1726912800-1726916400@dvcvisalia.com
SUMMARY:Private Range Closed
DESCRIPTION:
URL:https://dvcvisalia.com/event/private-range-closed-3/
END:VEVENT
BEGIN:VEVENT
DTSTART;VALUE=DATE:20240919
DTEND;VALUE=DATE:20240920
DTSTAMP:20260424T102305
CREATED:20240831T232256Z
LAST-MODIFIED:20240831T232256Z
UID:730-1726704000-1726790399@dvcvisalia.com
SUMMARY:Parole
DESCRIPTION:
URL:https://dvcvisalia.com/event/parole-14/
END:VEVENT
BEGIN:VEVENT
DTSTART;VALUE=DATE:20240918
DTEND;VALUE=DATE:20240919
DTSTAMP:20260424T102305
CREATED:20240831T232226Z
LAST-MODIFIED:20240831T232226Z
UID:728-1726617600-1726703999@dvcvisalia.com
SUMMARY:CHP
DESCRIPTION:
URL:https://dvcvisalia.com/event/chp-38/
END:VEVENT
BEGIN:VEVENT
DTSTART;VALUE=DATE:20240917
DTEND;VALUE=DATE:20240918
DTSTAMP:20260424T102305
CREATED:20240831T232148Z
LAST-MODIFIED:20240831T232148Z
UID:726-1726531200-1726617599@dvcvisalia.com
SUMMARY:Dinuba
DESCRIPTION:
URL:https://dvcvisalia.com/event/dinuba-20/
END:VEVENT
BEGIN:VEVENT
DTSTART;VALUE=DATE:20240916
DTEND;VALUE=DATE:20240917
DTSTAMP:20260424T102305
CREATED:20240831T232052Z
LAST-MODIFIED:20240831T232052Z
UID:724-1726444800-1726531199@dvcvisalia.com
SUMMARY:VPD
DESCRIPTION:
URL:https://dvcvisalia.com/event/vpd-88/
END:VEVENT
BEGIN:VEVENT
DTSTART;VALUE=DATE:20240913
DTEND;VALUE=DATE:20240914
DTSTAMP:20260424T102305
CREATED:20240831T232017Z
LAST-MODIFIED:20240831T232017Z
UID:722-1726185600-1726271999@dvcvisalia.com
SUMMARY:TC Probation
DESCRIPTION:
URL:https://dvcvisalia.com/event/tc-probation-18/
END:VEVENT
BEGIN:VEVENT
DTSTART;VALUE=DATE:20240912
DTEND;VALUE=DATE:20240913
DTSTAMP:20260424T102305
CREATED:20240831T231934Z
LAST-MODIFIED:20240831T231934Z
UID:720-1726099200-1726185599@dvcvisalia.com
SUMMARY:Federal Probation
DESCRIPTION:
URL:https://dvcvisalia.com/event/federal-probation-6/
END:VEVENT
BEGIN:VEVENT
DTSTART;VALUE=DATE:20240911
DTEND;VALUE=DATE:20240912
DTSTAMP:20260424T102305
CREATED:20240831T231852Z
LAST-MODIFIED:20240831T231852Z
UID:718-1726012800-1726099199@dvcvisalia.com
SUMMARY:CHP
DESCRIPTION:
URL:https://dvcvisalia.com/event/chp-37/
END:VEVENT
BEGIN:VEVENT
DTSTART;TZID=America/Los_Angeles:20240910T120000
DTEND;TZID=America/Los_Angeles:20240910T220000
DTSTAMP:20260424T102305
CREATED:20240831T231811Z
LAST-MODIFIED:20240831T231811Z
UID:716-1725969600-1726005600@dvcvisalia.com
SUMMARY:COS
DESCRIPTION:
URL:https://dvcvisalia.com/event/cos-29/
END:VEVENT
BEGIN:VEVENT
DTSTART;TZID=America/Los_Angeles:20240909T120000
DTEND;TZID=America/Los_Angeles:20240909T220000
DTSTAMP:20260424T102305
CREATED:20240831T231725Z
LAST-MODIFIED:20240831T231725Z
UID:714-1725883200-1725919200@dvcvisalia.com
SUMMARY:COS
DESCRIPTION:
URL:https://dvcvisalia.com/event/cos-28/
END:VEVENT
BEGIN:VEVENT
DTSTART;VALUE=DATE:20240908
DTEND;VALUE=DATE:20240909
DTSTAMP:20260424T102305
CREATED:20240831T231622Z
LAST-MODIFIED:20240831T231622Z
UID:712-1725753600-1725839999@dvcvisalia.com
SUMMARY:Dinuba/Main Range
DESCRIPTION:
URL:https://dvcvisalia.com/event/dinuba-main-range/
END:VEVENT
BEGIN:VEVENT
DTSTART;VALUE=DATE:20240907
DTEND;VALUE=DATE:20240908
DTSTAMP:20260424T102305
CREATED:20240831T231256Z
LAST-MODIFIED:20240831T231256Z
UID:706-1725667200-1725753599@dvcvisalia.com
SUMMARY:DVC
DESCRIPTION:
URL:https://dvcvisalia.com/event/dvc-21/
END:VEVENT
BEGIN:VEVENT
DTSTART;TZID=America/Los_Angeles:20240906T120000
DTEND;TZID=America/Los_Angeles:20240906T220000
DTSTAMP:20260424T102305
CREATED:20240831T231056Z
LAST-MODIFIED:20240831T231230Z
UID:704-1725624000-1725660000@dvcvisalia.com
SUMMARY:COS
DESCRIPTION:
URL:https://dvcvisalia.com/event/cos-25/
END:VEVENT
BEGIN:VEVENT
DTSTART;TZID=America/Los_Angeles:20240905T120000
DTEND;TZID=America/Los_Angeles:20240905T220000
DTSTAMP:20260424T102305
CREATED:20240831T231509Z
LAST-MODIFIED:20240831T231509Z
UID:710-1725537600-1725573600@dvcvisalia.com
SUMMARY:COS
DESCRIPTION:
URL:https://dvcvisalia.com/event/cos-27/
END:VEVENT
BEGIN:VEVENT
DTSTART;TZID=America/Los_Angeles:20240904T120000
DTEND;TZID=America/Los_Angeles:20240904T220000
DTSTAMP:20260424T102305
CREATED:20240831T231423Z
LAST-MODIFIED:20240831T231423Z
UID:708-1725451200-1725487200@dvcvisalia.com
SUMMARY:COS
DESCRIPTION:
URL:https://dvcvisalia.com/event/cos-26/
END:VEVENT
END:VCALENDAR