BEGIN:VCALENDAR
VERSION:2.0
PRODID:-//DVCVisalia - ECPv6.15.17//NONSGML v1.0//EN
CALSCALE:GREGORIAN
METHOD:PUBLISH
X-WR-CALNAME:DVCVisalia
X-ORIGINAL-URL:https://dvcvisalia.com
X-WR-CALDESC:Events for DVCVisalia
REFRESH-INTERVAL;VALUE=DURATION:PT1H
X-Robots-Tag:noindex
X-PUBLISHED-TTL:PT1H
BEGIN:VTIMEZONE
TZID:America/Los_Angeles
BEGIN:DAYLIGHT
TZOFFSETFROM:-0800
TZOFFSETTO:-0700
TZNAME:PDT
DTSTART:20230312T100000
END:DAYLIGHT
BEGIN:STANDARD
TZOFFSETFROM:-0700
TZOFFSETTO:-0800
TZNAME:PST
DTSTART:20231105T090000
END:STANDARD
BEGIN:DAYLIGHT
TZOFFSETFROM:-0800
TZOFFSETTO:-0700
TZNAME:PDT
DTSTART:20240310T100000
END:DAYLIGHT
BEGIN:STANDARD
TZOFFSETFROM:-0700
TZOFFSETTO:-0800
TZNAME:PST
DTSTART:20241103T090000
END:STANDARD
BEGIN:DAYLIGHT
TZOFFSETFROM:-0800
TZOFFSETTO:-0700
TZNAME:PDT
DTSTART:20250309T100000
END:DAYLIGHT
BEGIN:STANDARD
TZOFFSETFROM:-0700
TZOFFSETTO:-0800
TZNAME:PST
DTSTART:20251102T090000
END:STANDARD
BEGIN:DAYLIGHT
TZOFFSETFROM:-0800
TZOFFSETTO:-0700
TZNAME:PDT
DTSTART:20260308T100000
END:DAYLIGHT
BEGIN:STANDARD
TZOFFSETFROM:-0700
TZOFFSETTO:-0800
TZNAME:PST
DTSTART:20261101T090000
END:STANDARD
END:VTIMEZONE
BEGIN:VEVENT
DTSTART;TZID=America/Los_Angeles:20250110T120000
DTEND;TZID=America/Los_Angeles:20250110T220000
DTSTAMP:20260424T053831
CREATED:20250102T202130Z
LAST-MODIFIED:20250102T202130Z
UID:842-1736510400-1736546400@dvcvisalia.com
SUMMARY:COS
DESCRIPTION:
URL:https://dvcvisalia.com/event/cos-36/
END:VEVENT
BEGIN:VEVENT
DTSTART;TZID=America/Los_Angeles:20250109T120000
DTEND;TZID=America/Los_Angeles:20250109T220000
DTSTAMP:20260424T053831
CREATED:20250102T202100Z
LAST-MODIFIED:20250102T202100Z
UID:840-1736424000-1736460000@dvcvisalia.com
SUMMARY:COS
DESCRIPTION:
URL:https://dvcvisalia.com/event/cos-35/
END:VEVENT
BEGIN:VEVENT
DTSTART;VALUE=DATE:20250108
DTEND;VALUE=DATE:20250109
DTSTAMP:20260424T053831
CREATED:20250102T202026Z
LAST-MODIFIED:20250102T202026Z
UID:838-1736294400-1736380799@dvcvisalia.com
SUMMARY:CHP
DESCRIPTION:
URL:https://dvcvisalia.com/event/chp-46/
END:VEVENT
BEGIN:VEVENT
DTSTART;TZID=America/Los_Angeles:20250107T120000
DTEND;TZID=America/Los_Angeles:20250107T220000
DTSTAMP:20260424T053831
CREATED:20250102T202004Z
LAST-MODIFIED:20250102T202004Z
UID:836-1736251200-1736287200@dvcvisalia.com
SUMMARY:COS
DESCRIPTION:
URL:https://dvcvisalia.com/event/cos-34/
END:VEVENT
BEGIN:VEVENT
DTSTART;VALUE=DATE:20250104
DTEND;VALUE=DATE:20250105
DTSTAMP:20260424T053831
CREATED:20250102T201924Z
LAST-MODIFIED:20250102T201924Z
UID:834-1735948800-1736035199@dvcvisalia.com
SUMMARY:DVC
DESCRIPTION:
URL:https://dvcvisalia.com/event/dvc-25/
END:VEVENT
BEGIN:VEVENT
DTSTART;VALUE=DATE:20241221
DTEND;VALUE=DATE:20241222
DTSTAMP:20260424T053831
CREATED:20241202T232231Z
LAST-MODIFIED:20241202T232231Z
UID:830-1734739200-1734825599@dvcvisalia.com
SUMMARY:Private
DESCRIPTION:
URL:https://dvcvisalia.com/event/private-6/
END:VEVENT
BEGIN:VEVENT
DTSTART;VALUE=DATE:20241220
DTEND;VALUE=DATE:20241221
DTSTAMP:20260424T053831
CREATED:20241202T232157Z
LAST-MODIFIED:20241202T232157Z
UID:828-1734652800-1734739199@dvcvisalia.com
SUMMARY:Dinuba
DESCRIPTION:
URL:https://dvcvisalia.com/event/dinuba-23/
END:VEVENT
BEGIN:VEVENT
DTSTART;VALUE=DATE:20241219
DTEND;VALUE=DATE:20241220
DTSTAMP:20260424T053831
CREATED:20241202T232130Z
LAST-MODIFIED:20241202T232454Z
UID:826-1734566400-1734652799@dvcvisalia.com
SUMMARY:Parole
DESCRIPTION:
URL:https://dvcvisalia.com/event/parole-16/
END:VEVENT
BEGIN:VEVENT
DTSTART;VALUE=DATE:20241218
DTEND;VALUE=DATE:20241219
DTSTAMP:20260424T053831
CREATED:20241202T232059Z
LAST-MODIFIED:20241202T232059Z
UID:824-1734480000-1734566399@dvcvisalia.com
SUMMARY:VPD
DESCRIPTION:
URL:https://dvcvisalia.com/event/vpd-99/
END:VEVENT
BEGIN:VEVENT
DTSTART;VALUE=DATE:20241217
DTEND;VALUE=DATE:20241218
DTSTAMP:20260424T053831
CREATED:20241202T232032Z
LAST-MODIFIED:20241202T232032Z
UID:822-1734393600-1734479999@dvcvisalia.com
SUMMARY:CHP
DESCRIPTION:
URL:https://dvcvisalia.com/event/chp-45/
END:VEVENT
BEGIN:VEVENT
DTSTART;VALUE=DATE:20241216
DTEND;VALUE=DATE:20241217
DTSTAMP:20260424T053831
CREATED:20241202T232009Z
LAST-MODIFIED:20241202T232009Z
UID:820-1734307200-1734393599@dvcvisalia.com
SUMMARY:TC Probation
DESCRIPTION:
URL:https://dvcvisalia.com/event/tc-probation-23/
END:VEVENT
BEGIN:VEVENT
DTSTART;VALUE=DATE:20241210
DTEND;VALUE=DATE:20241215
DTSTAMP:20260424T053831
CREATED:20241202T231936Z
LAST-MODIFIED:20241202T231936Z
UID:818-1733788800-1734220799@dvcvisalia.com
SUMMARY:VPD
DESCRIPTION:
URL:https://dvcvisalia.com/event/vpd-98/
END:VEVENT
BEGIN:VEVENT
DTSTART;VALUE=DATE:20241209
DTEND;VALUE=DATE:20241210
DTSTAMP:20260424T053831
CREATED:20241202T231855Z
LAST-MODIFIED:20241202T231855Z
UID:816-1733702400-1733788799@dvcvisalia.com
SUMMARY:VPD
DESCRIPTION:
URL:https://dvcvisalia.com/event/vpd-97/
END:VEVENT
BEGIN:VEVENT
DTSTART;VALUE=DATE:20241207
DTEND;VALUE=DATE:20241208
DTSTAMP:20260424T053831
CREATED:20241202T231822Z
LAST-MODIFIED:20241202T231822Z
UID:814-1733529600-1733615999@dvcvisalia.com
SUMMARY:DVC
DESCRIPTION:
URL:https://dvcvisalia.com/event/dvc-24/
END:VEVENT
BEGIN:VEVENT
DTSTART;VALUE=DATE:20241206
DTEND;VALUE=DATE:20241207
DTSTAMP:20260424T053831
CREATED:20241202T231757Z
LAST-MODIFIED:20241202T231757Z
UID:812-1733443200-1733529599@dvcvisalia.com
SUMMARY:TC Probation
DESCRIPTION:
URL:https://dvcvisalia.com/event/tc-probation-22/
END:VEVENT
BEGIN:VEVENT
DTSTART;VALUE=DATE:20241205
DTEND;VALUE=DATE:20241206
DTSTAMP:20260424T053831
CREATED:20241202T231728Z
LAST-MODIFIED:20241202T231728Z
UID:810-1733356800-1733443199@dvcvisalia.com
SUMMARY:Tulare County DA
DESCRIPTION:
URL:https://dvcvisalia.com/event/tulare-county-da-2/
END:VEVENT
BEGIN:VEVENT
DTSTART;VALUE=DATE:20241204
DTEND;VALUE=DATE:20241205
DTSTAMP:20260424T053831
CREATED:20241111T035621Z
LAST-MODIFIED:20241111T035621Z
UID:804-1733270400-1733356799@dvcvisalia.com
SUMMARY:CHP
DESCRIPTION:
URL:https://dvcvisalia.com/event/chp-44/
END:VEVENT
BEGIN:VEVENT
DTSTART;VALUE=DATE:20241203
DTEND;VALUE=DATE:20241204
DTSTAMP:20260424T053831
CREATED:20241202T231618Z
LAST-MODIFIED:20241202T231618Z
UID:808-1733184000-1733270399@dvcvisalia.com
SUMMARY:Private - Range Closed
DESCRIPTION:
URL:https://dvcvisalia.com/event/private-range-closed-4/
END:VEVENT
BEGIN:VEVENT
DTSTART;VALUE=DATE:20241122
DTEND;VALUE=DATE:20241123
DTSTAMP:20260424T053831
CREATED:20241111T035530Z
LAST-MODIFIED:20241111T035530Z
UID:802-1732233600-1732319999@dvcvisalia.com
SUMMARY:TC Probation
DESCRIPTION:
URL:https://dvcvisalia.com/event/tc-probation-21/
END:VEVENT
BEGIN:VEVENT
DTSTART;VALUE=DATE:20241120
DTEND;VALUE=DATE:20241121
DTSTAMP:20260424T053831
CREATED:20241111T035500Z
LAST-MODIFIED:20241111T035500Z
UID:800-1732060800-1732147199@dvcvisalia.com
SUMMARY:CHP
DESCRIPTION:
URL:https://dvcvisalia.com/event/chp-43/
END:VEVENT
BEGIN:VEVENT
DTSTART;VALUE=DATE:20241119
DTEND;VALUE=DATE:20241120
DTSTAMP:20260424T053831
CREATED:20241111T035429Z
LAST-MODIFIED:20241111T035429Z
UID:798-1731974400-1732060799@dvcvisalia.com
SUMMARY:Parole
DESCRIPTION:
URL:https://dvcvisalia.com/event/parole-15/
END:VEVENT
BEGIN:VEVENT
DTSTART;VALUE=DATE:20241118
DTEND;VALUE=DATE:20241119
DTSTAMP:20260424T053831
CREATED:20241111T035355Z
LAST-MODIFIED:20241111T035355Z
UID:796-1731888000-1731974399@dvcvisalia.com
SUMMARY:Dinuba
DESCRIPTION:
URL:https://dvcvisalia.com/event/dinuba-22/
END:VEVENT
BEGIN:VEVENT
DTSTART;VALUE=DATE:20241117
DTEND;VALUE=DATE:20241118
DTSTAMP:20260424T053831
CREATED:20241111T035326Z
LAST-MODIFIED:20241111T035326Z
UID:794-1731801600-1731887999@dvcvisalia.com
SUMMARY:VPD
DESCRIPTION:
URL:https://dvcvisalia.com/event/vpd-96/
END:VEVENT
BEGIN:VEVENT
DTSTART;TZID=America/Los_Angeles:20241116T080000
DTEND;TZID=America/Los_Angeles:20241116T150000
DTSTAMP:20260424T053831
CREATED:20241111T035236Z
LAST-MODIFIED:20241111T035236Z
UID:792-1731744000-1731769200@dvcvisalia.com
SUMMARY:Private Range
DESCRIPTION:
URL:https://dvcvisalia.com/event/private-range-3/
END:VEVENT
BEGIN:VEVENT
DTSTART;VALUE=DATE:20241114
DTEND;VALUE=DATE:20241115
DTSTAMP:20260424T053831
CREATED:20241111T035134Z
LAST-MODIFIED:20241111T035134Z
UID:790-1731542400-1731628799@dvcvisalia.com
SUMMARY:Fed Probation
DESCRIPTION:
URL:https://dvcvisalia.com/event/fed-probation-2/
END:VEVENT
BEGIN:VEVENT
DTSTART;VALUE=DATE:20241113
DTEND;VALUE=DATE:20241114
DTSTAMP:20260424T053831
CREATED:20241111T035058Z
LAST-MODIFIED:20241111T035058Z
UID:788-1731456000-1731542399@dvcvisalia.com
SUMMARY:VPD
DESCRIPTION:
URL:https://dvcvisalia.com/event/vpd-95/
END:VEVENT
BEGIN:VEVENT
DTSTART;VALUE=DATE:20241111
DTEND;VALUE=DATE:20241112
DTSTAMP:20260424T053831
CREATED:20241111T035037Z
LAST-MODIFIED:20241111T035037Z
UID:786-1731283200-1731369599@dvcvisalia.com
SUMMARY:VPD
DESCRIPTION:
URL:https://dvcvisalia.com/event/vpd-94/
END:VEVENT
BEGIN:VEVENT
DTSTART;VALUE=DATE:20241109
DTEND;VALUE=DATE:20241110
DTSTAMP:20260424T053831
CREATED:20241111T035001Z
LAST-MODIFIED:20241111T035001Z
UID:784-1731110400-1731196799@dvcvisalia.com
SUMMARY:Private Event
DESCRIPTION:
URL:https://dvcvisalia.com/event/private-event-4/
END:VEVENT
BEGIN:VEVENT
DTSTART;VALUE=DATE:20241106
DTEND;VALUE=DATE:20241107
DTSTAMP:20260424T053831
CREATED:20241111T034930Z
LAST-MODIFIED:20241111T034930Z
UID:782-1730851200-1730937599@dvcvisalia.com
SUMMARY:CHP
DESCRIPTION:
URL:https://dvcvisalia.com/event/chp-42/
END:VEVENT
BEGIN:VEVENT
DTSTART;VALUE=DATE:20241103
DTEND;VALUE=DATE:20241104
DTSTAMP:20260424T053831
CREATED:20241111T034909Z
LAST-MODIFIED:20241111T034909Z
UID:780-1730592000-1730678399@dvcvisalia.com
SUMMARY:Private Range
DESCRIPTION:
URL:https://dvcvisalia.com/event/private-range-2/
END:VEVENT
END:VCALENDAR