BEGIN:VCALENDAR
VERSION:2.0
PRODID:-//DVCVisalia - ECPv6.15.17//NONSGML v1.0//EN
CALSCALE:GREGORIAN
METHOD:PUBLISH
X-ORIGINAL-URL:https://dvcvisalia.com
X-WR-CALDESC:Events for DVCVisalia
REFRESH-INTERVAL;VALUE=DURATION:PT1H
X-Robots-Tag:noindex
X-PUBLISHED-TTL:PT1H
BEGIN:VTIMEZONE
TZID:America/Los_Angeles
BEGIN:DAYLIGHT
TZOFFSETFROM:-0800
TZOFFSETTO:-0700
TZNAME:PDT
DTSTART:20240310T100000
END:DAYLIGHT
BEGIN:STANDARD
TZOFFSETFROM:-0700
TZOFFSETTO:-0800
TZNAME:PST
DTSTART:20241103T090000
END:STANDARD
BEGIN:DAYLIGHT
TZOFFSETFROM:-0800
TZOFFSETTO:-0700
TZNAME:PDT
DTSTART:20250309T100000
END:DAYLIGHT
BEGIN:STANDARD
TZOFFSETFROM:-0700
TZOFFSETTO:-0800
TZNAME:PST
DTSTART:20251102T090000
END:STANDARD
BEGIN:DAYLIGHT
TZOFFSETFROM:-0800
TZOFFSETTO:-0700
TZNAME:PDT
DTSTART:20260308T100000
END:DAYLIGHT
BEGIN:STANDARD
TZOFFSETFROM:-0700
TZOFFSETTO:-0800
TZNAME:PST
DTSTART:20261101T090000
END:STANDARD
END:VTIMEZONE
BEGIN:VEVENT
DTSTART;VALUE=DATE:20251004
DTEND;VALUE=DATE:20251005
DTSTAMP:20260423T105259
CREATED:20250902T233927Z
LAST-MODIFIED:20250902T233927Z
UID:1115-1759536000-1759622399@dvcvisalia.com
SUMMARY:DVC
DESCRIPTION:
URL:https://dvcvisalia.com/event/dvc-33/
END:VEVENT
BEGIN:VEVENT
DTSTART;VALUE=DATE:20250929
DTEND;VALUE=DATE:20251001
DTSTAMP:20260423T105259
CREATED:20250902T233901Z
LAST-MODIFIED:20250902T233901Z
UID:1113-1759104000-1759276799@dvcvisalia.com
SUMMARY:COS
DESCRIPTION:
URL:https://dvcvisalia.com/event/cos-44/
END:VEVENT
BEGIN:VEVENT
DTSTART;VALUE=DATE:20250927
DTEND;VALUE=DATE:20250928
DTSTAMP:20260423T105259
CREATED:20250902T233834Z
LAST-MODIFIED:20250902T233834Z
UID:1111-1758931200-1759017599@dvcvisalia.com
SUMMARY:Private Range Closed
DESCRIPTION:
URL:https://dvcvisalia.com/event/private-range-closed-9/
END:VEVENT
BEGIN:VEVENT
DTSTART;VALUE=DATE:20250926
DTEND;VALUE=DATE:20250927
DTSTAMP:20260423T105259
CREATED:20250902T233753Z
LAST-MODIFIED:20250902T233753Z
UID:1109-1758844800-1758931199@dvcvisalia.com
SUMMARY:TC Probation
DESCRIPTION:
URL:https://dvcvisalia.com/event/tc-probation-29/
END:VEVENT
BEGIN:VEVENT
DTSTART;VALUE=DATE:20250925
DTEND;VALUE=DATE:20250926
DTSTAMP:20260423T105259
CREATED:20250902T233720Z
LAST-MODIFIED:20250902T233720Z
UID:1107-1758758400-1758844799@dvcvisalia.com
SUMMARY:Fed Probation
DESCRIPTION:
URL:https://dvcvisalia.com/event/fed-probation-4/
END:VEVENT
BEGIN:VEVENT
DTSTART;VALUE=DATE:20250924
DTEND;VALUE=DATE:20250925
DTSTAMP:20260423T105259
CREATED:20250902T233647Z
LAST-MODIFIED:20250902T233647Z
UID:1105-1758672000-1758758399@dvcvisalia.com
SUMMARY:VPD
DESCRIPTION:
URL:https://dvcvisalia.com/event/vpd-142/
END:VEVENT
BEGIN:VEVENT
DTSTART;VALUE=DATE:20250923
DTEND;VALUE=DATE:20250924
DTSTAMP:20260423T105259
CREATED:20250902T233625Z
LAST-MODIFIED:20250902T233625Z
UID:1103-1758585600-1758671999@dvcvisalia.com
SUMMARY:Parole
DESCRIPTION:
URL:https://dvcvisalia.com/event/parole-22/
END:VEVENT
BEGIN:VEVENT
DTSTART;VALUE=DATE:20250917
DTEND;VALUE=DATE:20250921
DTSTAMP:20260423T105259
CREATED:20250902T233554Z
LAST-MODIFIED:20250902T233554Z
UID:1101-1758067200-1758412799@dvcvisalia.com
SUMMARY:VPD
DESCRIPTION:
URL:https://dvcvisalia.com/event/vpd-141/
END:VEVENT
BEGIN:VEVENT
DTSTART;VALUE=DATE:20250916
DTEND;VALUE=DATE:20250917
DTSTAMP:20260423T105259
CREATED:20250902T233521Z
LAST-MODIFIED:20250902T233521Z
UID:1099-1757980800-1758067199@dvcvisalia.com
SUMMARY:Dinuba
DESCRIPTION:
URL:https://dvcvisalia.com/event/dinuba-33/
END:VEVENT
BEGIN:VEVENT
DTSTART;VALUE=DATE:20250915
DTEND;VALUE=DATE:20250916
DTSTAMP:20260423T105259
CREATED:20250902T233449Z
LAST-MODIFIED:20250902T233449Z
UID:1097-1757894400-1757980799@dvcvisalia.com
SUMMARY:VPD
DESCRIPTION:
URL:https://dvcvisalia.com/event/vpd-140/
END:VEVENT
BEGIN:VEVENT
DTSTART;VALUE=DATE:20250912
DTEND;VALUE=DATE:20250913
DTSTAMP:20260423T105259
CREATED:20250902T233422Z
LAST-MODIFIED:20250902T233422Z
UID:1095-1757635200-1757721599@dvcvisalia.com
SUMMARY:TC Probation
DESCRIPTION:
URL:https://dvcvisalia.com/event/tc-probation-28/
END:VEVENT
BEGIN:VEVENT
DTSTART;VALUE=DATE:20250911
DTEND;VALUE=DATE:20250912
DTSTAMP:20260423T105259
CREATED:20250902T233349Z
LAST-MODIFIED:20250902T233349Z
UID:1093-1757548800-1757635199@dvcvisalia.com
SUMMARY:VPD
DESCRIPTION:
URL:https://dvcvisalia.com/event/vpd-139/
END:VEVENT
BEGIN:VEVENT
DTSTART;VALUE=DATE:20250910
DTEND;VALUE=DATE:20250911
DTSTAMP:20260423T105259
CREATED:20250902T233323Z
LAST-MODIFIED:20250902T233323Z
UID:1091-1757462400-1757548799@dvcvisalia.com
SUMMARY:CHP
DESCRIPTION:
URL:https://dvcvisalia.com/event/chp-64/
END:VEVENT
BEGIN:VEVENT
DTSTART;VALUE=DATE:20250906
DTEND;VALUE=DATE:20250907
DTSTAMP:20260423T105259
CREATED:20250802T010342Z
LAST-MODIFIED:20250802T010342Z
UID:1081-1757116800-1757203199@dvcvisalia.com
SUMMARY:DVC
DESCRIPTION:
URL:https://dvcvisalia.com/event/dvc-32/
END:VEVENT
BEGIN:VEVENT
DTSTART;TZID=America/Los_Angeles:20250905T080000
DTEND;TZID=America/Los_Angeles:20250905T110000
DTSTAMP:20260423T105259
CREATED:20250902T233246Z
LAST-MODIFIED:20250902T233246Z
UID:1089-1757059200-1757070000@dvcvisalia.com
SUMMARY:Fed Parole
DESCRIPTION:
URL:https://dvcvisalia.com/event/fed-parole-2/
END:VEVENT
BEGIN:VEVENT
DTSTART;TZID=America/Los_Angeles:20250904T080000
DTEND;TZID=America/Los_Angeles:20250904T110000
DTSTAMP:20260423T105259
CREATED:20250902T233159Z
LAST-MODIFIED:20250902T233159Z
UID:1087-1756972800-1756983600@dvcvisalia.com
SUMMARY:Fed Parole
DESCRIPTION:
URL:https://dvcvisalia.com/event/fed-parole/
END:VEVENT
BEGIN:VEVENT
DTSTART;VALUE=DATE:20250903
DTEND;VALUE=DATE:20250904
DTSTAMP:20260423T105259
CREATED:20250902T233121Z
LAST-MODIFIED:20250902T233121Z
UID:1085-1756857600-1756943999@dvcvisalia.com
SUMMARY:CHP
DESCRIPTION:
URL:https://dvcvisalia.com/event/chp-63/
END:VEVENT
BEGIN:VEVENT
DTSTART;VALUE=DATE:20250902
DTEND;VALUE=DATE:20250903
DTSTAMP:20260423T105259
CREATED:20250902T233052Z
LAST-MODIFIED:20250902T233052Z
UID:1083-1756771200-1756857599@dvcvisalia.com
SUMMARY:VPD
DESCRIPTION:
URL:https://dvcvisalia.com/event/vpd-138/
END:VEVENT
BEGIN:VEVENT
DTSTART;VALUE=DATE:20250829
DTEND;VALUE=DATE:20250830
DTSTAMP:20260423T105259
CREATED:20250802T010314Z
LAST-MODIFIED:20250802T010314Z
UID:1079-1756425600-1756511999@dvcvisalia.com
SUMMARY:COS
DESCRIPTION:
URL:https://dvcvisalia.com/event/cos-43/
END:VEVENT
BEGIN:VEVENT
DTSTART;VALUE=DATE:20250828
DTEND;VALUE=DATE:20250829
DTSTAMP:20260423T105259
CREATED:20250802T010240Z
LAST-MODIFIED:20250802T010240Z
UID:1077-1756339200-1756425599@dvcvisalia.com
SUMMARY:COS
DESCRIPTION:
URL:https://dvcvisalia.com/event/cos-42/
END:VEVENT
BEGIN:VEVENT
DTSTART;VALUE=DATE:20250827
DTEND;VALUE=DATE:20250828
DTSTAMP:20260423T105259
CREATED:20250802T010215Z
LAST-MODIFIED:20250802T010215Z
UID:1075-1756252800-1756339199@dvcvisalia.com
SUMMARY:VPD
DESCRIPTION:
URL:https://dvcvisalia.com/event/vpd-137/
END:VEVENT
BEGIN:VEVENT
DTSTART;VALUE=DATE:20250825
DTEND;VALUE=DATE:20250826
DTSTAMP:20260423T105259
CREATED:20250802T010149Z
LAST-MODIFIED:20250802T010149Z
UID:1073-1756080000-1756166399@dvcvisalia.com
SUMMARY:VPD
DESCRIPTION:
URL:https://dvcvisalia.com/event/vpd-136/
END:VEVENT
BEGIN:VEVENT
DTSTART;VALUE=DATE:20250823
DTEND;VALUE=DATE:20250824
DTSTAMP:20260423T105259
CREATED:20250802T010119Z
LAST-MODIFIED:20250802T010119Z
UID:1071-1755907200-1755993599@dvcvisalia.com
SUMMARY:Private Range Closed
DESCRIPTION:
URL:https://dvcvisalia.com/event/private-range-closed-8/
END:VEVENT
BEGIN:VEVENT
DTSTART;VALUE=DATE:20250822
DTEND;VALUE=DATE:20250823
DTSTAMP:20260423T105259
CREATED:20250802T010021Z
LAST-MODIFIED:20250802T010021Z
UID:1069-1755820800-1755907199@dvcvisalia.com
SUMMARY:Parole
DESCRIPTION:
URL:https://dvcvisalia.com/event/parole-21/
END:VEVENT
BEGIN:VEVENT
DTSTART;VALUE=DATE:20250820
DTEND;VALUE=DATE:20250821
DTSTAMP:20260423T105259
CREATED:20250802T005948Z
LAST-MODIFIED:20250802T005948Z
UID:1067-1755648000-1755734399@dvcvisalia.com
SUMMARY:CHP
DESCRIPTION:
URL:https://dvcvisalia.com/event/chp-62/
END:VEVENT
BEGIN:VEVENT
DTSTART;TZID=America/Los_Angeles:20250819T080000
DTEND;TZID=America/Los_Angeles:20250819T120000
DTSTAMP:20260423T105259
CREATED:20250802T005846Z
LAST-MODIFIED:20250802T005846Z
UID:1065-1755590400-1755604800@dvcvisalia.com
SUMMARY:Probation
DESCRIPTION:
URL:https://dvcvisalia.com/event/probation-8/
END:VEVENT
BEGIN:VEVENT
DTSTART;VALUE=DATE:20250818
DTEND;VALUE=DATE:20250819
DTSTAMP:20260423T105259
CREATED:20250802T005805Z
LAST-MODIFIED:20250802T005805Z
UID:1063-1755475200-1755561599@dvcvisalia.com
SUMMARY:VPD
DESCRIPTION:
URL:https://dvcvisalia.com/event/vpd-135/
END:VEVENT
BEGIN:VEVENT
DTSTART;VALUE=DATE:20250816
DTEND;VALUE=DATE:20250817
DTSTAMP:20260423T105259
CREATED:20250802T005725Z
LAST-MODIFIED:20250802T005725Z
UID:1061-1755302400-1755388799@dvcvisalia.com
SUMMARY:Private Range Closed
DESCRIPTION:
URL:https://dvcvisalia.com/event/private-range-closed-7/
END:VEVENT
BEGIN:VEVENT
DTSTART;VALUE=DATE:20250815
DTEND;VALUE=DATE:20250816
DTSTAMP:20260423T105259
CREATED:20250802T005645Z
LAST-MODIFIED:20250802T005645Z
UID:1059-1755216000-1755302399@dvcvisalia.com
SUMMARY:Dinuba
DESCRIPTION:
URL:https://dvcvisalia.com/event/dinuba-32/
END:VEVENT
BEGIN:VEVENT
DTSTART;VALUE=DATE:20250814
DTEND;VALUE=DATE:20250815
DTSTAMP:20260423T105259
CREATED:20250802T005606Z
LAST-MODIFIED:20250802T005606Z
UID:1057-1755129600-1755215999@dvcvisalia.com
SUMMARY:TCDA
DESCRIPTION:
URL:https://dvcvisalia.com/event/tcda-13/
END:VEVENT
END:VCALENDAR